BEGIN:VCALENDAR
VERSION:2.0
PRODID:-//Parafia Św. Kazimierza w Jerce - ECPv6.13.1//NONSGML v1.0//EN
CALSCALE:GREGORIAN
METHOD:PUBLISH
X-WR-CALNAME:Parafia Św. Kazimierza w Jerce
X-ORIGINAL-URL:https://www.parafia-jerka.pl
X-WR-CALDESC:Wydarzenia dla Parafia Św. Kazimierza w Jerce
REFRESH-INTERVAL;VALUE=DURATION:PT1H
X-Robots-Tag:noindex
X-PUBLISHED-TTL:PT1H
BEGIN:VTIMEZONE
TZID:Europe/Paris
BEGIN:DAYLIGHT
TZOFFSETFROM:+0100
TZOFFSETTO:+0200
TZNAME:CEST
DTSTART:20260329T010000
END:DAYLIGHT
BEGIN:STANDARD
TZOFFSETFROM:+0200
TZOFFSETTO:+0100
TZNAME:CET
DTSTART:20261025T010000
END:STANDARD
END:VTIMEZONE
BEGIN:VEVENT
DTSTART;TZID=Europe/Paris:20260421T180000
DTEND;TZID=Europe/Paris:20260421T180000
DTSTAMP:20260421T131439
CREATED:20260419T094321Z
LAST-MODIFIED:20260419T094321Z
UID:13006-1776794400-1776794400@www.parafia-jerka.pl
SUMMARY:+Danielę\, Stanisława Borowiaków\, Irenę Miler
DESCRIPTION:Msza Św.
URL:https://www.parafia-jerka.pl/ogloszenie/daniele-stanislawa-borowiakow-irene-miler/
ORGANIZER;CN="Ks. Dawid Kawa%C5%82a":MAILTO:biuro@parafia-jerka.pl
END:VEVENT
BEGIN:VEVENT
DTSTART;TZID=Europe/Paris:20260422T180000
DTEND;TZID=Europe/Paris:20260422T180000
DTSTAMP:20260421T131439
CREATED:20260419T094321Z
LAST-MODIFIED:20260419T094321Z
UID:13007-1776880800-1776880800@www.parafia-jerka.pl
SUMMARY:Msza Zbiorowa:\, +Mieczysławę Wojciak- w 1r. śm.\, +Czesława i Krystynę Majchrzaków\, +Ewę Bartkowiak- od rodz. Kasprzaków z Jerki\, +Bogdana Gołembkę- od Pawła Słabego z rodz. (3. int.)\, +Stanisławę Dodot- od Danuty Hojak z rodz.\, +Stanisławę Mazurek- od rodz. Kuligów z Łąkowej\, +Antoniego Mazurka- od rodz. Bartkowiaków z ul. Śremskiej i Łowieckej\, +Jerzego Kaliszewskiego- od rodz. Małyszków
DESCRIPTION:Msza Św.
URL:https://www.parafia-jerka.pl/ogloszenie/msza-zbiorowa-mieczyslawe-wojciak-w-1r-sm-czeslawa-i-krystyne-majchrzakow-ewe-bartkowiak-od-rodz-kasprzakow-z-jerki-bogdana-golembke-od-pawla-slabego-z-rodz-3-int-stanislawe-dodo/
ORGANIZER;CN="Ks. Dawid Kawa%C5%82a":MAILTO:biuro@parafia-jerka.pl
END:VEVENT
BEGIN:VEVENT
DTSTART;TZID=Europe/Paris:20260423T180000
DTEND;TZID=Europe/Paris:20260423T180000
DTSTAMP:20260421T131439
CREATED:20260419T094321Z
LAST-MODIFIED:20260419T094321Z
UID:13008-1776967200-1776967200@www.parafia-jerka.pl
SUMMARY:-Z ok. 70. ur. Elżbiety oraz rocznicy Ślubu\, z podz. za otrz. łaski\,\, z pr. o dalszą opiekę Bożą dla Jubilatów i całej rodziny
DESCRIPTION:Msza Św.
URL:https://www.parafia-jerka.pl/ogloszenie/z-ok-70-ur-elzbiety-oraz-rocznicy-slubu-z-podz-za-otrz-laski-z-pr-o-dalsza-opieke-boza-dla-jubilatow-i-calej-rodziny/
ORGANIZER;CN="Ks. Dawid Kawa%C5%82a":MAILTO:biuro@parafia-jerka.pl
END:VEVENT
BEGIN:VEVENT
DTSTART;TZID=Europe/Paris:20260424T180000
DTEND;TZID=Europe/Paris:20260424T180000
DTSTAMP:20260421T131439
CREATED:20260419T094321Z
LAST-MODIFIED:20260419T094321Z
UID:13009-1777053600-1777053600@www.parafia-jerka.pl
SUMMARY:+Bogumiła Przydrożnego- w 1r. śm.
DESCRIPTION:Msza Św.
URL:https://www.parafia-jerka.pl/ogloszenie/bogumila-przydroznego-w-1r-sm/
ORGANIZER;CN="Ks. Dawid Kawa%C5%82a":MAILTO:biuro@parafia-jerka.pl
END:VEVENT
BEGIN:VEVENT
DTSTART;TZID=Europe/Paris:20260425T160000
DTEND;TZID=Europe/Paris:20260425T160000
DTSTAMP:20260421T131439
CREATED:20260419T094324Z
LAST-MODIFIED:20260419T094327Z
UID:13010-1777132800-1777132800@www.parafia-jerka.pl
SUMMARY:-Z ok. 40r. Ślubu Małgorzaty i Leszka\, z podz. za otrz. łaski\,\, z pr. o zdr. i błog. Boże dla Jubilatów i całej rodziny
DESCRIPTION:Msza Św.
URL:https://www.parafia-jerka.pl/ogloszenie/z-ok-40r-slubu-malgorzaty-i-leszka-z-podz-za-otrz-laski-z-pr-o-zdr-i-blog-boze-dla-jubilatow-i-calej-rodziny/
ORGANIZER;CN="Ks. Dawid Kawa%C5%82a":MAILTO:biuro@parafia-jerka.pl
END:VEVENT
BEGIN:VEVENT
DTSTART;TZID=Europe/Paris:20260425T180000
DTEND;TZID=Europe/Paris:20260425T180000
DTSTAMP:20260421T131439
CREATED:20260419T094324Z
LAST-MODIFIED:20260419T094327Z
UID:13011-1777140000-1777140000@www.parafia-jerka.pl
SUMMARY:+Wiesława Czajkę i zm. z rodz.
DESCRIPTION:Msza Św.
URL:https://www.parafia-jerka.pl/ogloszenie/wieslawa-czajke-i-zm-z-rodz-3/
ORGANIZER;CN="Ks. Dawid Kawa%C5%82a":MAILTO:biuro@parafia-jerka.pl
END:VEVENT
BEGIN:VEVENT
DTSTART;TZID=Europe/Paris:20260426T080000
DTEND;TZID=Europe/Paris:20260426T080000
DTSTAMP:20260421T131439
CREATED:20260419T094324Z
LAST-MODIFIED:20260419T094327Z
UID:13012-1777190400-1777190400@www.parafia-jerka.pl
SUMMARY:+Mieczysława Nowaka- w 1 r. śm.\, Gertrudę Nowak\, Władysławę\,\, Jana Jędrowiaków
DESCRIPTION:Msza Św.
URL:https://www.parafia-jerka.pl/ogloszenie/mieczyslawa-nowaka-w-1-r-sm-gertrude-nowak-wladyslawe-jana-jedrowiakow/
ORGANIZER;CN="Ks. Dawid Kawa%C5%82a":MAILTO:biuro@parafia-jerka.pl
END:VEVENT
BEGIN:VEVENT
DTSTART;TZID=Europe/Paris:20260426T100000
DTEND;TZID=Europe/Paris:20260426T100000
DTSTAMP:20260421T131439
CREATED:20260419T094325Z
LAST-MODIFIED:20260419T094327Z
UID:13013-1777197600-1777197600@www.parafia-jerka.pl
SUMMARY:+Bogdana Gołembkę- od syna Zbigniewa z żoną Karoliną
DESCRIPTION:Msza Św.
URL:https://www.parafia-jerka.pl/ogloszenie/bogdana-golembke-od-syna-zbigniewa-z-zona-karolina/
ORGANIZER;CN="Ks. Dawid Kawa%C5%82a":MAILTO:biuro@parafia-jerka.pl
END:VEVENT
BEGIN:VEVENT
DTSTART;TZID=Europe/Paris:20260426T113000
DTEND;TZID=Europe/Paris:20260426T113000
DTSTAMP:20260421T131439
CREATED:20260419T094325Z
LAST-MODIFIED:20260419T094327Z
UID:13014-1777203000-1777203000@www.parafia-jerka.pl
SUMMARY:+Franciszka\, Marię Dykertów i zm. z rodz.\, Chrzest: Magdalena Woźna\, Chrzest: Liliana Majchrzak
DESCRIPTION:Msza Św.
URL:https://www.parafia-jerka.pl/ogloszenie/franciszka-marie-dykertow-i-zm-z-rodz-chrzest-magdalena-wozna-chrzest-liliana-majchrzak/
ORGANIZER;CN="Ks. Dawid Kawa%C5%82a":MAILTO:biuro@parafia-jerka.pl
END:VEVENT
END:VCALENDAR