BEGIN:VCALENDAR
VERSION:2.0
PRODID:-//Parafia Św. Kazimierza w Jerce - ECPv6.13.1//NONSGML v1.0//EN
CALSCALE:GREGORIAN
METHOD:PUBLISH
X-WR-CALNAME:Parafia Św. Kazimierza w Jerce
X-ORIGINAL-URL:https://www.parafia-jerka.pl
X-WR-CALDESC:Wydarzenia dla Parafia Św. Kazimierza w Jerce
REFRESH-INTERVAL;VALUE=DURATION:PT1H
X-Robots-Tag:noindex
X-PUBLISHED-TTL:PT1H
BEGIN:VTIMEZONE
TZID:Europe/Paris
BEGIN:DAYLIGHT
TZOFFSETFROM:+0100
TZOFFSETTO:+0200
TZNAME:CEST
DTSTART:20250330T010000
END:DAYLIGHT
BEGIN:STANDARD
TZOFFSETFROM:+0200
TZOFFSETTO:+0100
TZNAME:CET
DTSTART:20251026T010000
END:STANDARD
END:VTIMEZONE
BEGIN:VEVENT
DTSTART;TZID=Europe/Paris:20250901T081500
DTEND;TZID=Europe/Paris:20250901T081500
DTSTAMP:20260422T033151
CREATED:20250831T094515Z
LAST-MODIFIED:20250831T094515Z
UID:11913-1756714500-1756714500@www.parafia-jerka.pl
SUMMARY:-Msza św. na rozpoczęcie nowego Roku Szkolnego- ZS w Jerce
DESCRIPTION:Msza Św.
URL:https://www.parafia-jerka.pl/ogloszenie/msza-sw-na-rozpoczecie-nowego-roku-szkolnego-zs-w-jerce/
ORGANIZER;CN="Ks. Dawid Kawa%C5%82a":MAILTO:biuro@parafia-jerka.pl
END:VEVENT
BEGIN:VEVENT
DTSTART;TZID=Europe/Paris:20250902T180000
DTEND;TZID=Europe/Paris:20250902T180000
DTSTAMP:20260422T033151
CREATED:20250831T094515Z
LAST-MODIFIED:20250831T094515Z
UID:11914-1756836000-1756836000@www.parafia-jerka.pl
SUMMARY:+Mieczysławę Wojciak- od rodz. Adamskich i Beszterdów
DESCRIPTION:Msza Św.
URL:https://www.parafia-jerka.pl/ogloszenie/mieczyslawe-wojciak-od-rodz-adamskich-i-beszterdow/
ORGANIZER;CN="Ks. Dawid Kawa%C5%82a":MAILTO:biuro@parafia-jerka.pl
END:VEVENT
BEGIN:VEVENT
DTSTART;TZID=Europe/Paris:20250903T180000
DTEND;TZID=Europe/Paris:20250903T180000
DTSTAMP:20260422T033151
CREATED:20250831T094515Z
LAST-MODIFIED:20250831T094515Z
UID:11915-1756922400-1756922400@www.parafia-jerka.pl
SUMMARY:Msza zbiorowa: +Danutę Domagałę- od bratowej Zofii z rodz.\, +Jana i Pelagię Walasiaków\, +Piotra Wyrzykiewicza- od szwagierki Barbary\, +Karola Golembkę- od szwagierki Beaty z rodz.\, +Bogumiła Przydrożnego- od siostrzenicy Magdaleny z rodz.\, +Ewę Bartkowiak- od cioci Marii z wnukiem Bartoszem\, +Bolesławę Berus- od chrześnicy Justyny z mężem
DESCRIPTION:Msza Św.
URL:https://www.parafia-jerka.pl/ogloszenie/msza-zbiorowa-danute-domagale-od-bratowej-zofii-z-rodz-jana-i-pelagie-walasiakow-piotra-wyrzykiewicza-od-szwagierki-barbary-karola-golembke-od-szwagierki-beaty-z-rodz-bogumila-przydrozn/
ORGANIZER;CN="Ks. Dawid Kawa%C5%82a":MAILTO:biuro@parafia-jerka.pl
END:VEVENT
BEGIN:VEVENT
DTSTART;TZID=Europe/Paris:20250904T180000
DTEND;TZID=Europe/Paris:20250904T180000
DTSTAMP:20260422T033151
CREATED:20250831T094516Z
LAST-MODIFIED:20250831T094516Z
UID:11916-1757008800-1757008800@www.parafia-jerka.pl
SUMMARY:+Danutę Domagałę- od Marii Jędroszkowiak z dziećmi i rodzinami
DESCRIPTION:Msza Św.
URL:https://www.parafia-jerka.pl/ogloszenie/danute-domagale-od-marii-jedroszkowiak-z-dziecmi-i-rodzinami/
ORGANIZER;CN="Ks. Dawid Kawa%C5%82a":MAILTO:biuro@parafia-jerka.pl
END:VEVENT
BEGIN:VEVENT
DTSTART;TZID=Europe/Paris:20250905T150000
DTEND;TZID=Europe/Paris:20250905T150000
DTSTAMP:20260422T033151
CREATED:20250831T094516Z
LAST-MODIFIED:20250831T094516Z
UID:11917-1757084400-1757084400@www.parafia-jerka.pl
SUMMARY:-Ślub: Natalia Jędroszkowiak i Bartosz Wabiński
DESCRIPTION:Msza Św.
URL:https://www.parafia-jerka.pl/ogloszenie/slub-natalia-jedroszkowiak-i-bartosz-wabinski/
ORGANIZER;CN="Ks. Dawid Kawa%C5%82a":MAILTO:biuro@parafia-jerka.pl
END:VEVENT
BEGIN:VEVENT
DTSTART;TZID=Europe/Paris:20250905T180000
DTEND;TZID=Europe/Paris:20250905T180000
DTSTAMP:20260422T033151
CREATED:20250831T094518Z
LAST-MODIFIED:20250831T094518Z
UID:11918-1757095200-1757095200@www.parafia-jerka.pl
SUMMARY:+Karola Golembkę- od dzieci
DESCRIPTION:Msza Św.
URL:https://www.parafia-jerka.pl/ogloszenie/karola-golembke-od-dzieci/
ORGANIZER;CN="Ks. Dawid Kawa%C5%82a":MAILTO:biuro@parafia-jerka.pl
END:VEVENT
BEGIN:VEVENT
DTSTART;TZID=Europe/Paris:20250906T090000
DTEND;TZID=Europe/Paris:20250906T090000
DTSTAMP:20260422T033151
CREATED:20250831T094519Z
LAST-MODIFIED:20250831T094519Z
UID:11919-1757149200-1757149200@www.parafia-jerka.pl
SUMMARY:-W int. V Róży Kobiet Żywego Różańca oraz zmarłe czcicielki
DESCRIPTION:Msza Św.
URL:https://www.parafia-jerka.pl/ogloszenie/w-int-v-rozy-kobiet-zywego-rozanca-oraz-zmarle-czcicielki/
ORGANIZER;CN="Ks. Dawid Kawa%C5%82a":MAILTO:biuro@parafia-jerka.pl
END:VEVENT
BEGIN:VEVENT
DTSTART;TZID=Europe/Paris:20250906T160000
DTEND;TZID=Europe/Paris:20250906T160000
DTSTAMP:20260422T033151
CREATED:20250831T094519Z
LAST-MODIFIED:20250831T094519Z
UID:11920-1757174400-1757174400@www.parafia-jerka.pl
SUMMARY:-Z ok. 25r. ślubu Anny i Mirosława\, z podz. Panu Bogu i Matce Najśw. za przeżyte lata w sakramencie małżeństwa\, z pr. o dalsze Boże Błog. i zdr. dla całej rodz.
DESCRIPTION:Msza Św.
URL:https://www.parafia-jerka.pl/ogloszenie/z-ok-25r-slubu-anny-i-miroslawa-z-podz-panu-bogu-i-matce-najsw-za-przezyte-lata-w-sakramencie-malzenstwa-z-pr-o-dalsze-boze-blog-i-zdr-dla-calej-rodz/
ORGANIZER;CN="Ks. Dawid Kawa%C5%82a":MAILTO:biuro@parafia-jerka.pl
END:VEVENT
BEGIN:VEVENT
DTSTART;TZID=Europe/Paris:20250906T180000
DTEND;TZID=Europe/Paris:20250906T180000
DTSTAMP:20260422T033151
CREATED:20250831T094520Z
LAST-MODIFIED:20250831T094520Z
UID:11921-1757181600-1757181600@www.parafia-jerka.pl
SUMMARY:+Stanisława Ratajszczaka- od syna Szymona z rodz.
DESCRIPTION:Msza Św.
URL:https://www.parafia-jerka.pl/ogloszenie/stanislawa-ratajszczaka-od-syna-szymona-z-rodz/
ORGANIZER;CN="Ks. Dawid Kawa%C5%82a":MAILTO:biuro@parafia-jerka.pl
END:VEVENT
BEGIN:VEVENT
DTSTART;TZID=Europe/Paris:20250907T080000
DTEND;TZID=Europe/Paris:20250907T080000
DTSTAMP:20260422T033151
CREATED:20250831T094520Z
LAST-MODIFIED:20250831T094520Z
UID:11922-1757232000-1757232000@www.parafia-jerka.pl
SUMMARY:+Jerzego Walczaka
DESCRIPTION:Msza Św.
URL:https://www.parafia-jerka.pl/ogloszenie/jerzego-walczaka/
ORGANIZER;CN="Ks. Dawid Kawa%C5%82a":MAILTO:biuro@parafia-jerka.pl
END:VEVENT
BEGIN:VEVENT
DTSTART;TZID=Europe/Paris:20250907T100000
DTEND;TZID=Europe/Paris:20250907T100000
DTSTAMP:20260422T033151
CREATED:20250831T094534Z
LAST-MODIFIED:20250831T094534Z
UID:11923-1757239200-1757239200@www.parafia-jerka.pl
SUMMARY:+Józefa Walenciaka- w r. śm.\, zm. z rodz. Kokocińskich i Walenciaków
DESCRIPTION:Msza Św.
URL:https://www.parafia-jerka.pl/ogloszenie/jozefa-walenciaka-w-r-sm-zm-z-rodz-kokocinskich-i-walenciakow/
ORGANIZER;CN="Ks. Dawid Kawa%C5%82a":MAILTO:biuro@parafia-jerka.pl
END:VEVENT
BEGIN:VEVENT
DTSTART;TZID=Europe/Paris:20250907T113000
DTEND;TZID=Europe/Paris:20250907T113000
DTSTAMP:20260422T033151
CREATED:20250831T094535Z
LAST-MODIFIED:20250831T094535Z
UID:11924-1757244600-1757244600@www.parafia-jerka.pl
SUMMARY:+Wiesława Kośniewskiego- w 1r. śm.
DESCRIPTION:Msza Św.
URL:https://www.parafia-jerka.pl/ogloszenie/wieslawa-kosniewskiego-w-1r-sm/
ORGANIZER;CN="Ks. Dawid Kawa%C5%82a":MAILTO:biuro@parafia-jerka.pl
END:VEVENT
BEGIN:VEVENT
DTSTART;TZID=Europe/Paris:20250908T180000
DTEND;TZID=Europe/Paris:20250908T180000
DTSTAMP:20260422T033151
CREATED:20250907T093559Z
LAST-MODIFIED:20250907T093559Z
UID:11944-1757354400-1757354400@www.parafia-jerka.pl
SUMMARY:-Z ok. 1. urodzin Stanisława
DESCRIPTION:Msza Św.
URL:https://www.parafia-jerka.pl/ogloszenie/z-ok-1-urodzin-stanislawa/
ORGANIZER;CN="Ks. Dawid Kawa%C5%82a":MAILTO:biuro@parafia-jerka.pl
END:VEVENT
BEGIN:VEVENT
DTSTART;TZID=Europe/Paris:20250909T180000
DTEND;TZID=Europe/Paris:20250909T180000
DTSTAMP:20260422T033151
CREATED:20250907T093600Z
LAST-MODIFIED:20250907T093600Z
UID:11945-1757440800-1757440800@www.parafia-jerka.pl
SUMMARY:+Marię Józefowicz- od męża Zbigniewa
DESCRIPTION:Msza Św.
URL:https://www.parafia-jerka.pl/ogloszenie/marie-jozefowicz-od-meza-zbigniewa/
ORGANIZER;CN="Ks. Dawid Kawa%C5%82a":MAILTO:biuro@parafia-jerka.pl
END:VEVENT
BEGIN:VEVENT
DTSTART;TZID=Europe/Paris:20250910T180000
DTEND;TZID=Europe/Paris:20250910T180000
DTSTAMP:20260422T033151
CREATED:20250907T093600Z
LAST-MODIFIED:20250907T093600Z
UID:11946-1757527200-1757527200@www.parafia-jerka.pl
SUMMARY:Msza zbiorowa: +Danutę Domagałę- od rodz. Dorszów z Jerki\, +Czesława Majchrzaka- od sąsiadów\, +Stanisława Perza- od brata Andrzeja z rodz.\, +Jana Johna-w 25r. śm.\, Weronikę John\, +Mieczysławę Wojciak- od rodz. Kustoszów z Żelazna\, +Stanisława Olszewskiego- od Ewy i Darka z Pogorzeli\, +Halinę Adamczyk- od rodz. Żyniewiczów i Rejmaniaków\, +Jacka Adamczyka- od chrześnicy Emilii z rodz.
DESCRIPTION:Msza Św.
URL:https://www.parafia-jerka.pl/ogloszenie/msza-zbiorowa-danute-domagale-od-rodz-dorszow-z-jerki-czeslawa-majchrzaka-od-sasiadow-stanislawa-perza-od-brata-andrzeja-z-rodz-jana-johna-w-25r-sm-weronike-john-mieczyslawe-wojciak/
ORGANIZER;CN="Ks. Dawid Kawa%C5%82a":MAILTO:biuro@parafia-jerka.pl
END:VEVENT
BEGIN:VEVENT
DTSTART;TZID=Europe/Paris:20250911T180000
DTEND;TZID=Europe/Paris:20250911T180000
DTSTAMP:20260422T033151
CREATED:20250907T093600Z
LAST-MODIFIED:20250907T093600Z
UID:11947-1757613600-1757613600@www.parafia-jerka.pl
SUMMARY:+Ewę Bartkowiak- od rodz. Gronów\, Michałkowskich\, Koronowskich i Maciejewskich
DESCRIPTION:Msza Św.
URL:https://www.parafia-jerka.pl/ogloszenie/ewe-bartkowiak-od-rodz-gronow-michalkowskich-koronowskich-i-maciejewskich/
ORGANIZER;CN="Ks. Dawid Kawa%C5%82a":MAILTO:biuro@parafia-jerka.pl
END:VEVENT
BEGIN:VEVENT
DTSTART;TZID=Europe/Paris:20250912T180000
DTEND;TZID=Europe/Paris:20250912T180000
DTSTAMP:20260422T033151
CREATED:20250907T093600Z
LAST-MODIFIED:20250907T093600Z
UID:11948-1757700000-1757700000@www.parafia-jerka.pl
SUMMARY:+Zofię\, Danutę\, Mariana Bogackich\, zm. z rodz. Antoniaków i Bogackich
DESCRIPTION:Msza Św.
URL:https://www.parafia-jerka.pl/ogloszenie/zofie-danute-mariana-bogackich-zm-z-rodz-antoniakow-i-bogackich-2/
ORGANIZER;CN="Ks. Dawid Kawa%C5%82a":MAILTO:biuro@parafia-jerka.pl
END:VEVENT
BEGIN:VEVENT
DTSTART;TZID=Europe/Paris:20250913T160000
DTEND;TZID=Europe/Paris:20250913T160000
DTSTAMP:20260422T033151
CREATED:20250907T093607Z
LAST-MODIFIED:20250907T093607Z
UID:11949-1757779200-1757779200@www.parafia-jerka.pl
SUMMARY:-Chrzest- Oliwier Rachmajda
DESCRIPTION:Msza Św.
URL:https://www.parafia-jerka.pl/ogloszenie/chrzest-oliwier-rachmajda/
ORGANIZER;CN="Ks. Dawid Kawa%C5%82a":MAILTO:biuro@parafia-jerka.pl
END:VEVENT
BEGIN:VEVENT
DTSTART;TZID=Europe/Paris:20250913T180000
DTEND;TZID=Europe/Paris:20250913T180000
DTSTAMP:20260422T033151
CREATED:20250907T093607Z
LAST-MODIFIED:20250907T093607Z
UID:11950-1757786400-1757786400@www.parafia-jerka.pl
SUMMARY:+Zbigniewa Biegańskiego\, zm. z rodz. Biegańskich\, Berlińskich i Ciążyńskich oraz Katarzynę Fischer
DESCRIPTION:Msza Św.
URL:https://www.parafia-jerka.pl/ogloszenie/zbigniewa-bieganskiego-zm-z-rodz-bieganskich-berlinskich-i-ciazynskich-oraz-katarzyne-fischer/
ORGANIZER;CN="Ks. Dawid Kawa%C5%82a":MAILTO:biuro@parafia-jerka.pl
END:VEVENT
BEGIN:VEVENT
DTSTART;TZID=Europe/Paris:20250914T080000
DTEND;TZID=Europe/Paris:20250914T080000
DTSTAMP:20260422T033151
CREATED:20250907T093607Z
LAST-MODIFIED:20250907T093607Z
UID:11951-1757836800-1757836800@www.parafia-jerka.pl
SUMMARY:+Elżbietę Pawlicką\, Piotra Jankowskiego
DESCRIPTION:Msza Św.
URL:https://www.parafia-jerka.pl/ogloszenie/elzbiete-pawlicka-piotra-jankowskiego/
ORGANIZER;CN="Ks. Dawid Kawa%C5%82a":MAILTO:biuro@parafia-jerka.pl
END:VEVENT
BEGIN:VEVENT
DTSTART;TZID=Europe/Paris:20250914T100000
DTEND;TZID=Europe/Paris:20250914T100000
DTSTAMP:20260422T033151
CREATED:20250907T093608Z
LAST-MODIFIED:20250907T093608Z
UID:11952-1757844000-1757844000@www.parafia-jerka.pl
SUMMARY:+Bogumiłę Charłos- od Kuzynki Ilony z rodziną
DESCRIPTION:Msza Św.
URL:https://www.parafia-jerka.pl/ogloszenie/bogumile-charlos-od-kuzynki-ilony-z-rodzina/
ORGANIZER;CN="Ks. Dawid Kawa%C5%82a":MAILTO:biuro@parafia-jerka.pl
END:VEVENT
BEGIN:VEVENT
DTSTART;TZID=Europe/Paris:20250914T113000
DTEND;TZID=Europe/Paris:20250914T113000
DTSTAMP:20260422T033151
CREATED:20250907T093609Z
LAST-MODIFIED:20250907T093609Z
UID:11953-1757849400-1757849400@www.parafia-jerka.pl
SUMMARY:+Gertrudę\, Zenona Kałków\, Irenę\, Wacława Góreckich
DESCRIPTION:Msza Św.
URL:https://www.parafia-jerka.pl/ogloszenie/gertrude-zenona-kalkow-irene-waclawa-goreckich-2/
ORGANIZER;CN="Ks. Dawid Kawa%C5%82a":MAILTO:biuro@parafia-jerka.pl
END:VEVENT
BEGIN:VEVENT
DTSTART;TZID=Europe/Paris:20250914T113000
DTEND;TZID=Europe/Paris:20250914T113000
DTSTAMP:20260422T033151
CREATED:20250907T093623Z
LAST-MODIFIED:20250907T093623Z
UID:11954-1757849400-1757849400@www.parafia-jerka.pl
SUMMARY:-Intencja Dziękczynna za zbiory
DESCRIPTION:Msza Św.
URL:https://www.parafia-jerka.pl/ogloszenie/intencja-dziekczynna-za-zbiory/
ORGANIZER;CN="Ks. Dawid Kawa%C5%82a":MAILTO:biuro@parafia-jerka.pl
END:VEVENT
BEGIN:VEVENT
DTSTART;TZID=Europe/Paris:20250915T180000
DTEND;TZID=Europe/Paris:20250915T180000
DTSTAMP:20260422T033151
CREATED:20250914T092419Z
LAST-MODIFIED:20250914T092419Z
UID:11979-1757959200-1757959200@www.parafia-jerka.pl
SUMMARY:+Franciszkę\, Stefana Motałów\, Marię\, Stanisława Kaźmierczaków i zm. z rodz.
DESCRIPTION:Msza Św.
URL:https://www.parafia-jerka.pl/ogloszenie/franciszke-stefana-motalow-marie-stanislawa-kazmierczakow-i-zm-z-rodz/
ORGANIZER;CN="Ks. Dawid Kawa%C5%82a":MAILTO:biuro@parafia-jerka.pl
END:VEVENT
BEGIN:VEVENT
DTSTART;TZID=Europe/Paris:20250916T180000
DTEND;TZID=Europe/Paris:20250916T180000
DTSTAMP:20260422T033151
CREATED:20250914T092419Z
LAST-MODIFIED:20250914T092419Z
UID:11980-1758045600-1758045600@www.parafia-jerka.pl
SUMMARY:+Romana Hetmanowskiego- od Jacka z rodz.
DESCRIPTION:Msza Św.
URL:https://www.parafia-jerka.pl/ogloszenie/romana-hetmanowskiego-od-jacka-z-rodz/
ORGANIZER;CN="Ks. Dawid Kawa%C5%82a":MAILTO:biuro@parafia-jerka.pl
END:VEVENT
BEGIN:VEVENT
DTSTART;TZID=Europe/Paris:20250917T180000
DTEND;TZID=Europe/Paris:20250917T180000
DTSTAMP:20260422T033151
CREATED:20250914T092419Z
LAST-MODIFIED:20250914T092419Z
UID:11981-1758132000-1758132000@www.parafia-jerka.pl
SUMMARY:Msza zbiorowa: +Bożenę\, Walentego Bendowskich\, +Stanisława Ratajszczaka- od rodz. Turków z Jerki\, +Sylwina Garasza- w 2r. śm. Gertrudę\, Jana Garaszów\, Jana Rozmiarka\, Stefana\, Anielę Homskich\, Bernadetę Czerniawską\, +Gertrudę\, Mieczysława Lubiejewskich\, Jadwigę\, Wacława\, Andrzeja Urbaniaków\, +Bolesławę Berus- od rodz. Nowaków i Waszaków\, +Bogumiła Przydrożnego- od syna Michała z wnukami\, +Ewę Bartkowiak- od szwagra Henryka z rodz.\, +Mieczysławę Wojciak- od rodz. Glinkowskich z Lubinia
DESCRIPTION:Msza Św.
URL:https://www.parafia-jerka.pl/ogloszenie/msza-zbiorowa-bozene-walentego-bendowskich-stanislawa-ratajszczaka-od-rodz-turkow-z-jerki-sylwina-garasza-w-2r-sm-gertrude-jana-garaszow-jana-rozmiarka-stefana-aniele-homskich-bernade/
ORGANIZER;CN="Ks. Dawid Kawa%C5%82a":MAILTO:biuro@parafia-jerka.pl
END:VEVENT
BEGIN:VEVENT
DTSTART;TZID=Europe/Paris:20250918T180000
DTEND;TZID=Europe/Paris:20250918T180000
DTSTAMP:20260422T033151
CREATED:20250914T092420Z
LAST-MODIFIED:20250914T092420Z
UID:11982-1758218400-1758218400@www.parafia-jerka.pl
SUMMARY:+Sylwestra Misiaka- od rodz. Majchrzaków i Dolaków
DESCRIPTION:Msza Św.
URL:https://www.parafia-jerka.pl/ogloszenie/sylwestra-misiaka-od-rodz-majchrzakow-i-dolakow/
ORGANIZER;CN="Ks. Dawid Kawa%C5%82a":MAILTO:biuro@parafia-jerka.pl
END:VEVENT
BEGIN:VEVENT
DTSTART;TZID=Europe/Paris:20250919T180000
DTEND;TZID=Europe/Paris:20250919T180000
DTSTAMP:20260422T033151
CREATED:20250914T092420Z
LAST-MODIFIED:20250914T092420Z
UID:11983-1758304800-1758304800@www.parafia-jerka.pl
SUMMARY:+Cecylię Kasprzak- od córki Barbary z mężem
DESCRIPTION:Msza Św.
URL:https://www.parafia-jerka.pl/ogloszenie/cecylie-kasprzak-od-corki-barbary-z-mezem/
ORGANIZER;CN="Ks. Dawid Kawa%C5%82a":MAILTO:biuro@parafia-jerka.pl
END:VEVENT
BEGIN:VEVENT
DTSTART;TZID=Europe/Paris:20250920T120000
DTEND;TZID=Europe/Paris:20250920T120000
DTSTAMP:20260422T033151
CREATED:20250914T092422Z
LAST-MODIFIED:20250914T092422Z
UID:11984-1758369600-1758369600@www.parafia-jerka.pl
SUMMARY:Chrzest- Michalina Dorsz
DESCRIPTION:Msza Św.
URL:https://www.parafia-jerka.pl/ogloszenie/chrzest-michalina-dorsz/
ORGANIZER;CN="Ks. Dawid Kawa%C5%82a":MAILTO:biuro@parafia-jerka.pl
END:VEVENT
BEGIN:VEVENT
DTSTART;TZID=Europe/Paris:20250920T160000
DTEND;TZID=Europe/Paris:20250920T160000
DTSTAMP:20260422T033151
CREATED:20250914T092423Z
LAST-MODIFIED:20250914T092423Z
UID:11985-1758384000-1758384000@www.parafia-jerka.pl
SUMMARY:-Za wszystkich członków rodziny z pr. o Boże błog. i zdr. oraz o niebo dla zmarłych
DESCRIPTION:Msza Św.
URL:https://www.parafia-jerka.pl/ogloszenie/za-wszystkich-czlonkow-rodziny-z-pr-o-boze-blog-i-zdr-oraz-o-niebo-dla-zmarlych/
ORGANIZER;CN="Ks. Dawid Kawa%C5%82a":MAILTO:biuro@parafia-jerka.pl
END:VEVENT
END:VCALENDAR