BEGIN:VCALENDAR
VERSION:2.0
PRODID:-//Parafia Św. Kazimierza w Jerce - ECPv6.13.1//NONSGML v1.0//EN
CALSCALE:GREGORIAN
METHOD:PUBLISH
X-WR-CALNAME:Parafia Św. Kazimierza w Jerce
X-ORIGINAL-URL:https://www.parafia-jerka.pl
X-WR-CALDESC:Wydarzenia dla Parafia Św. Kazimierza w Jerce
REFRESH-INTERVAL;VALUE=DURATION:PT1H
X-Robots-Tag:noindex
X-PUBLISHED-TTL:PT1H
BEGIN:VTIMEZONE
TZID:Europe/Paris
BEGIN:DAYLIGHT
TZOFFSETFROM:+0100
TZOFFSETTO:+0200
TZNAME:CEST
DTSTART:20250330T010000
END:DAYLIGHT
BEGIN:STANDARD
TZOFFSETFROM:+0200
TZOFFSETTO:+0100
TZNAME:CET
DTSTART:20251026T010000
END:STANDARD
END:VTIMEZONE
BEGIN:VEVENT
DTSTART;TZID=Europe/Paris:20251001T180000
DTEND;TZID=Europe/Paris:20251001T180000
DTSTAMP:20260422T020116
CREATED:20250928T094826Z
LAST-MODIFIED:20250928T094826Z
UID:12028-1759341600-1759341600@www.parafia-jerka.pl
SUMMARY:Msza zbiorowa: +Bolesławę Berus- od Bogumiły i Romana Fenglerów z rodz.\, +Halinę Adamczyk- od chrześniaka z rodz.\, +Jacka Adamczyka- od rodz. Michalskich i Lisów\, +Stanisława Olszewskiego- od Kingi z rodz.\, +Mieczysławę Wojciak- od rodz. Borowiaków z Żelazna\, +Stanisława Rybarczyka- od siostry Kazimiery z rodz.\, +Stanisławę Dodot- od wnuka Szymona z rodz.\, +Cecylię Kasprzak- od rodz. Bartkowiaków
DESCRIPTION:Msza Św.
URL:https://www.parafia-jerka.pl/ogloszenie/msza-zbiorowa-boleslawe-berus-od-bogumily-i-romana-fenglerow-z-rodz-haline-adamczyk-od-chrzesniaka-z-rodz-jacka-adamczyka-od-rodz-michalskich-i-lisow-stanislawa-olszewskiego-od-kingi-z/
ORGANIZER;CN="Ks. Dawid Kawa%C5%82a":MAILTO:biuro@parafia-jerka.pl
END:VEVENT
BEGIN:VEVENT
DTSTART;TZID=Europe/Paris:20251002T180000
DTEND;TZID=Europe/Paris:20251002T180000
DTSTAMP:20260422T020116
CREATED:20250928T094826Z
LAST-MODIFIED:20250928T094826Z
UID:12029-1759428000-1759428000@www.parafia-jerka.pl
SUMMARY:-Z ok. urodzin Krzysztofa\, z podz. za otrz. łaski\, z pr. o zdr. i dalsze błog. Boże i opiekę MB
DESCRIPTION:Msza Św.
URL:https://www.parafia-jerka.pl/ogloszenie/z-ok-urodzin-krzysztofa-z-podz-za-otrz-laski-z-pr-o-zdr-i-dalsze-blog-boze-i-opieke-mb/
ORGANIZER;CN="Ks. Dawid Kawa%C5%82a":MAILTO:biuro@parafia-jerka.pl
END:VEVENT
BEGIN:VEVENT
DTSTART;TZID=Europe/Paris:20251003T180000
DTEND;TZID=Europe/Paris:20251003T180000
DTSTAMP:20260422T020116
CREATED:20250928T094826Z
LAST-MODIFIED:20250928T094826Z
UID:12030-1759514400-1759514400@www.parafia-jerka.pl
SUMMARY:+Bogdana Dańczaka- w 20r. śm.\, zm. z rodz. Przybyłów i Dańczaków
DESCRIPTION:Msza Św.
URL:https://www.parafia-jerka.pl/ogloszenie/bogdana-danczaka-w-20r-sm-zm-z-rodz-przybylow-i-danczakow/
ORGANIZER;CN="Ks. Dawid Kawa%C5%82a":MAILTO:biuro@parafia-jerka.pl
END:VEVENT
BEGIN:VEVENT
DTSTART;TZID=Europe/Paris:20251004T090000
DTEND;TZID=Europe/Paris:20251004T090000
DTSTAMP:20260422T020116
CREATED:20250928T094829Z
LAST-MODIFIED:20250928T094829Z
UID:12031-1759568400-1759568400@www.parafia-jerka.pl
SUMMARY:-W in. VI Róży Żywego Różańca
DESCRIPTION:Msza Św.
URL:https://www.parafia-jerka.pl/ogloszenie/w-in-vi-rozy-zywego-rozanca/
ORGANIZER;CN="Ks. Dawid Kawa%C5%82a":MAILTO:biuro@parafia-jerka.pl
END:VEVENT
BEGIN:VEVENT
DTSTART;TZID=Europe/Paris:20251004T180000
DTEND;TZID=Europe/Paris:20251004T180000
DTSTAMP:20260422T020116
CREATED:20250928T094830Z
LAST-MODIFIED:20250928T094830Z
UID:12032-1759600800-1759600800@www.parafia-jerka.pl
SUMMARY:+Stanisławę\, Jerzego Józefiaków\, Józefa\, Jacka\, Halinę Adamczyków\, Henryka Kozłowskiego\, zm. dziadków i dusze w czyśćcu cierpiące
DESCRIPTION:Msza Św.
URL:https://www.parafia-jerka.pl/ogloszenie/stanislawe-jerzego-jozefiakow-jozefa-jacka-haline-adamczykow-henryka-kozlowskiego-zm-dziadkow-i-dusze-w-czysccu-cierpiace/
ORGANIZER;CN="Ks. Dawid Kawa%C5%82a":MAILTO:biuro@parafia-jerka.pl
END:VEVENT
BEGIN:VEVENT
DTSTART;TZID=Europe/Paris:20251005T080000
DTEND;TZID=Europe/Paris:20251005T080000
DTSTAMP:20260422T020116
CREATED:20250928T094830Z
LAST-MODIFIED:20250928T094830Z
UID:12033-1759651200-1759651200@www.parafia-jerka.pl
SUMMARY:+Ksawerego- od kuzynostwa z Jerki
DESCRIPTION:Msza Św.
URL:https://www.parafia-jerka.pl/ogloszenie/ksawerego-od-kuzynostwa-z-jerki/
ORGANIZER;CN="Ks. Dawid Kawa%C5%82a":MAILTO:biuro@parafia-jerka.pl
END:VEVENT
BEGIN:VEVENT
DTSTART;TZID=Europe/Paris:20251005T100000
DTEND;TZID=Europe/Paris:20251005T100000
DTSTAMP:20260422T020116
CREATED:20250928T094830Z
LAST-MODIFIED:20250928T094830Z
UID:12034-1759658400-1759658400@www.parafia-jerka.pl
SUMMARY:+Karola Golembkę- od rodziców i siostry Beaty
DESCRIPTION:Msza Św.
URL:https://www.parafia-jerka.pl/ogloszenie/karola-golembke-od-rodzicow-i-siostry-beaty/
ORGANIZER;CN="Ks. Dawid Kawa%C5%82a":MAILTO:biuro@parafia-jerka.pl
END:VEVENT
BEGIN:VEVENT
DTSTART;TZID=Europe/Paris:20251005T113000
DTEND;TZID=Europe/Paris:20251005T113000
DTSTAMP:20260422T020116
CREATED:20250928T094830Z
LAST-MODIFIED:20250928T094830Z
UID:12035-1759663800-1759663800@www.parafia-jerka.pl
SUMMARY:-Z ok. 50r. ślubu Elżbiety i Teodora\, z podz. za otrz. łaski\, z pr. o dalsze błog. Boże
DESCRIPTION:Msza Św.
URL:https://www.parafia-jerka.pl/ogloszenie/z-ok-50r-slubu-elzbiety-i-teodora-z-podz-za-otrz-laski-z-pr-o-dalsze-blog-boze/
ORGANIZER;CN="Ks. Dawid Kawa%C5%82a":MAILTO:biuro@parafia-jerka.pl
END:VEVENT
BEGIN:VEVENT
DTSTART;TZID=Europe/Paris:20251006T180000
DTEND;TZID=Europe/Paris:20251006T180000
DTSTAMP:20260422T020116
CREATED:20251005T092735Z
LAST-MODIFIED:20251005T092735Z
UID:12054-1759773600-1759773600@www.parafia-jerka.pl
SUMMARY:+Annę Szczepaniak- w 5r. śm.\, Ignacego Szczepaniaka
DESCRIPTION:Msza Św.
URL:https://www.parafia-jerka.pl/ogloszenie/anne-szczepaniak-w-5r-sm-ignacego-szczepaniaka/
ORGANIZER;CN="Ks. Dawid Kawa%C5%82a":MAILTO:biuro@parafia-jerka.pl
END:VEVENT
BEGIN:VEVENT
DTSTART;TZID=Europe/Paris:20251007T180000
DTEND;TZID=Europe/Paris:20251007T180000
DTSTAMP:20260422T020116
CREATED:20251005T092735Z
LAST-MODIFIED:20251005T092735Z
UID:12055-1759860000-1759860000@www.parafia-jerka.pl
SUMMARY:+Marię Józefowicz- od córki Marty z rodz.
DESCRIPTION:Msza Św.
URL:https://www.parafia-jerka.pl/ogloszenie/marie-jozefowicz-od-corki-marty-z-rodz/
ORGANIZER;CN="Ks. Dawid Kawa%C5%82a":MAILTO:biuro@parafia-jerka.pl
END:VEVENT
BEGIN:VEVENT
DTSTART;TZID=Europe/Paris:20251008T180000
DTEND;TZID=Europe/Paris:20251008T180000
DTSTAMP:20260422T020116
CREATED:20251005T092735Z
LAST-MODIFIED:20251005T092735Z
UID:12056-1759946400-1759946400@www.parafia-jerka.pl
SUMMARY:Msza zbiorowa: -Z prośbą o Boże błog.\, łaskę zdrowia\, opiekę MB i św. Józefa dla Edwarda\, z ok. 70 urodzin\, +Piotra Wyrzykiewicza- od chrześnicy Beaty z rodz.\, +Czesława Majchrzaka- od rodz. Augustyniaków\, +Krystynę\, Stanisława Dodotów i zm. z rodz. Motałów\, +Karola Golembkę- od Aliny\, Janusza i Leszka z rodzinami\, +Walentynę Ostrowską- od rodz. Mania\, +Ewę Bartkowiak- od Żywego Różańca\, +Cecylię Kasprzak- od pracowników firmy \,\,Kasprzak”\, +Stanisława Olszewskiego- od kolegi Janusza z firmy \,\,Pol- Trans”\, +Stanisławę Dodot- od wnuczki Darii
DESCRIPTION:Msza Św.
URL:https://www.parafia-jerka.pl/ogloszenie/msza-zbiorowa-z-prosba-o-boze-blog-laske-zdrowia-opieke-mb-i-sw-jozefa-dla-edwarda-z-ok-70-urodzin-piotra-wyrzykiewicza-od-chrzesnicy-beaty-z-rodz-czeslawa-majchrzaka-od-rodz-augustyni/
ORGANIZER;CN="Ks. Dawid Kawa%C5%82a":MAILTO:biuro@parafia-jerka.pl
END:VEVENT
BEGIN:VEVENT
DTSTART;TZID=Europe/Paris:20251009T180000
DTEND;TZID=Europe/Paris:20251009T180000
DTSTAMP:20260422T020116
CREATED:20251005T092735Z
LAST-MODIFIED:20251005T092735Z
UID:12057-1760032800-1760032800@www.parafia-jerka.pl
SUMMARY:+Władysławę\, Alojzego Duszyńskich
DESCRIPTION:Msza Św.
URL:https://www.parafia-jerka.pl/ogloszenie/wladyslawe-alojzego-duszynskich-5/
ORGANIZER;CN="Ks. Dawid Kawa%C5%82a":MAILTO:biuro@parafia-jerka.pl
END:VEVENT
BEGIN:VEVENT
DTSTART;TZID=Europe/Paris:20251010T180000
DTEND;TZID=Europe/Paris:20251010T180000
DTSTAMP:20260422T020116
CREATED:20251005T092736Z
LAST-MODIFIED:20251005T092736Z
UID:12058-1760119200-1760119200@www.parafia-jerka.pl
SUMMARY:+Lecha Grzesińskiego- od szwagra Grzegorza z rodz. oraz +Barbarę\, zm. z rodz. Szajewskich\, Glumińskich i Jerzego Podrzyckiego
DESCRIPTION:Msza Św.
URL:https://www.parafia-jerka.pl/ogloszenie/lecha-grzesinskiego-od-szwagra-grzegorza-z-rodz-oraz-barbare-zm-z-rodz-szajewskich-gluminskich-i-jerzego-podrzyckiego/
ORGANIZER;CN="Ks. Dawid Kawa%C5%82a":MAILTO:biuro@parafia-jerka.pl
END:VEVENT
BEGIN:VEVENT
DTSTART;TZID=Europe/Paris:20251011T150000
DTEND;TZID=Europe/Paris:20251011T150000
DTSTAMP:20260422T020116
CREATED:20251005T092739Z
LAST-MODIFIED:20251005T092740Z
UID:12059-1760194800-1760194800@www.parafia-jerka.pl
SUMMARY:Chrzest- Wiktoria Szatkowska
DESCRIPTION:Msza Św.
URL:https://www.parafia-jerka.pl/ogloszenie/chrzest-wiktoria-szatkowska/
ORGANIZER;CN="Ks. Dawid Kawa%C5%82a":MAILTO:biuro@parafia-jerka.pl
END:VEVENT
BEGIN:VEVENT
DTSTART;TZID=Europe/Paris:20251011T160000
DTEND;TZID=Europe/Paris:20251011T160000
DTSTAMP:20260422T020116
CREATED:20251005T092739Z
LAST-MODIFIED:20251005T092740Z
UID:12060-1760198400-1760198400@www.parafia-jerka.pl
SUMMARY:Chrzest- Rozalia Anna Duszczak
DESCRIPTION:Msza Św.
URL:https://www.parafia-jerka.pl/ogloszenie/chrzest-rozalia-anna-duszczak/
ORGANIZER;CN="Ks. Dawid Kawa%C5%82a":MAILTO:biuro@parafia-jerka.pl
END:VEVENT
BEGIN:VEVENT
DTSTART;TZID=Europe/Paris:20251011T180000
DTEND;TZID=Europe/Paris:20251011T180000
DTSTAMP:20260422T020116
CREATED:20251005T092739Z
LAST-MODIFIED:20251005T092740Z
UID:12061-1760205600-1760205600@www.parafia-jerka.pl
SUMMARY:+Stanisława Ratajszczaka- od syna Marka z rodz.
DESCRIPTION:Msza Św.
URL:https://www.parafia-jerka.pl/ogloszenie/stanislawa-ratajszczaka-od-syna-marka-z-rodz/
ORGANIZER;CN="Ks. Dawid Kawa%C5%82a":MAILTO:biuro@parafia-jerka.pl
END:VEVENT
BEGIN:VEVENT
DTSTART;TZID=Europe/Paris:20251012T080000
DTEND;TZID=Europe/Paris:20251012T080000
DTSTAMP:20260422T020116
CREATED:20251005T092740Z
LAST-MODIFIED:20251005T092740Z
UID:12062-1760256000-1760256000@www.parafia-jerka.pl
SUMMARY:+Martę Banaszak- w 3r. śm.\, Aleksandra\, Romana Banaszaków\, Jerzego Kaźmierczaka- w 11r. śm. i zm. z rodz.
DESCRIPTION:Msza Św.
URL:https://www.parafia-jerka.pl/ogloszenie/marte-banaszak-w-3r-sm-aleksandra-romana-banaszakow-jerzego-kazmierczaka-w-11r-sm-i-zm-z-rodz/
ORGANIZER;CN="Ks. Dawid Kawa%C5%82a":MAILTO:biuro@parafia-jerka.pl
END:VEVENT
BEGIN:VEVENT
DTSTART;TZID=Europe/Paris:20251012T100000
DTEND;TZID=Europe/Paris:20251012T100000
DTSTAMP:20260422T020116
CREATED:20251005T092740Z
LAST-MODIFIED:20251005T092741Z
UID:12063-1760263200-1760263200@www.parafia-jerka.pl
SUMMARY:+Stefana\, Mariusza Iwanowskich\, zm. z rodz. Majchrzaków i Iwanowskich
DESCRIPTION:Msza Św.
URL:https://www.parafia-jerka.pl/ogloszenie/stefana-mariusza-iwanowskich-zm-z-rodz-majchrzakow-i-iwanowskich-2/
ORGANIZER;CN="Ks. Dawid Kawa%C5%82a":MAILTO:biuro@parafia-jerka.pl
END:VEVENT
BEGIN:VEVENT
DTSTART;TZID=Europe/Paris:20251012T113000
DTEND;TZID=Europe/Paris:20251012T113000
DTSTAMP:20260422T020116
CREATED:20251005T092857Z
LAST-MODIFIED:20251005T092857Z
UID:12071-1760268600-1760268600@www.parafia-jerka.pl
SUMMARY:+Ryszarda Turka\, Bożenę\, Czesława Wędzińskich i zm. dziadków
DESCRIPTION:Msza Św.
URL:https://www.parafia-jerka.pl/ogloszenie/ryszarda-turka-bozene-czeslawa-wedzinskich-i-zm-dziadkow-2/
ORGANIZER;CN="Ks. Dawid Kawa%C5%82a":MAILTO:biuro@parafia-jerka.pl
END:VEVENT
BEGIN:VEVENT
DTSTART;TZID=Europe/Paris:20251013T180000
DTEND;TZID=Europe/Paris:20251013T180000
DTSTAMP:20260422T020116
CREATED:20251012T091542Z
LAST-MODIFIED:20251012T091542Z
UID:12088-1760378400-1760378400@www.parafia-jerka.pl
SUMMARY:+Ewę Bartkowiak- od córki Janiny
DESCRIPTION:Msza Św.
URL:https://www.parafia-jerka.pl/ogloszenie/ewe-bartkowiak-od-corki-janiny/
ORGANIZER;CN="Ks. Dawid Kawa%C5%82a":MAILTO:biuro@parafia-jerka.pl
END:VEVENT
BEGIN:VEVENT
DTSTART;TZID=Europe/Paris:20251014T180000
DTEND;TZID=Europe/Paris:20251014T180000
DTSTAMP:20260422T020116
CREATED:20251012T091543Z
LAST-MODIFIED:20251012T091543Z
UID:12089-1760464800-1760464800@www.parafia-jerka.pl
SUMMARY:+Zdzisława Adamskiego i Beatę Chałupkę
DESCRIPTION:Msza Św.
URL:https://www.parafia-jerka.pl/ogloszenie/zdzislawa-adamskiego-i-beate-chalupke/
ORGANIZER;CN="Ks. Dawid Kawa%C5%82a":MAILTO:biuro@parafia-jerka.pl
END:VEVENT
BEGIN:VEVENT
DTSTART;TZID=Europe/Paris:20251015T180000
DTEND;TZID=Europe/Paris:20251015T180000
DTSTAMP:20260422T020116
CREATED:20251012T091543Z
LAST-MODIFIED:20251012T091543Z
UID:12090-1760551200-1760551200@www.parafia-jerka.pl
SUMMARY:Msza zbiorowa: -W intencji Bogu wiadomej\, +Stanisława Ratajszczaka- od Joanny i Łukasza z rodzinami\, +Ryszarda Kolasińskiego- od rodz. Małeckich\, Sobczaków i Stężyckich\, +Jacka Adamczyka- od koleżanek i kolegów z firmy HM\, +Mieczysława Wojtkowskiego- od rodz. Jędrzejczaków\, +Stanisławę Dodot- od wnuczki Natalii z rodz.\, +Darcio Emanuela Paiva\, +Cecylię Kasprzak- od Żywego Różańca\, +Stanisława Olszewskiego- od kolegi Romana z firmy GTP
DESCRIPTION:Msza Św.
URL:https://www.parafia-jerka.pl/ogloszenie/msza-zbiorowa-w-intencji-bogu-wiadomej-stanislawa-ratajszczaka-od-joanny-i-lukasza-z-rodzinami-ryszarda-kolasinskiego-od-rodz-maleckich-sobczakow-i-stezyckich-jacka-adamczyka-od-kolezanek/
ORGANIZER;CN="Ks. Dawid Kawa%C5%82a":MAILTO:biuro@parafia-jerka.pl
END:VEVENT
BEGIN:VEVENT
DTSTART;TZID=Europe/Paris:20251016T180000
DTEND;TZID=Europe/Paris:20251016T180000
DTSTAMP:20260422T020116
CREATED:20251012T091543Z
LAST-MODIFIED:20251012T091543Z
UID:12091-1760637600-1760637600@www.parafia-jerka.pl
SUMMARY:+Jadwigę Korczak- od rodz. Wędzińskich i Józefiaków
DESCRIPTION:Msza Św.
URL:https://www.parafia-jerka.pl/ogloszenie/jadwige-korczak-od-rodz-wedzinskich-i-jozefiakow/
ORGANIZER;CN="Ks. Dawid Kawa%C5%82a":MAILTO:biuro@parafia-jerka.pl
END:VEVENT
BEGIN:VEVENT
DTSTART;TZID=Europe/Paris:20251017T160000
DTEND;TZID=Europe/Paris:20251017T160000
DTSTAMP:20260422T020116
CREATED:20251012T091543Z
LAST-MODIFIED:20251012T091543Z
UID:12092-1760716800-1760716800@www.parafia-jerka.pl
SUMMARY:-Z ok. 60 ur.- z podz. za otrz. łaski\, z pr. o błog. Boże dla całej rodziny
DESCRIPTION:Msza Św.
URL:https://www.parafia-jerka.pl/ogloszenie/z-ok-60-ur-z-podz-za-otrz-laski-z-pr-o-blog-boze-dla-calej-rodziny/
ORGANIZER;CN="Ks. Dawid Kawa%C5%82a":MAILTO:biuro@parafia-jerka.pl
END:VEVENT
BEGIN:VEVENT
DTSTART;TZID=Europe/Paris:20251017T180000
DTEND;TZID=Europe/Paris:20251017T180000
DTSTAMP:20260422T020116
CREATED:20251012T091545Z
LAST-MODIFIED:20251012T091546Z
UID:12093-1760724000-1760724000@www.parafia-jerka.pl
SUMMARY:+Stanisławę Dodot- od syna Jerzego z rodz.
DESCRIPTION:Msza Św.
URL:https://www.parafia-jerka.pl/ogloszenie/stanislawe-dodot-od-syna-jerzego-z-rodz/
ORGANIZER;CN="Ks. Dawid Kawa%C5%82a":MAILTO:biuro@parafia-jerka.pl
END:VEVENT
BEGIN:VEVENT
DTSTART;TZID=Europe/Paris:20251018T180000
DTEND;TZID=Europe/Paris:20251018T180000
DTSTAMP:20260422T020116
CREATED:20251012T091545Z
LAST-MODIFIED:20251012T091546Z
UID:12094-1760810400-1760810400@www.parafia-jerka.pl
SUMMARY:+Stanisława Pawlaka- od chrześniaczki Mirosławy
DESCRIPTION:Msza Św.
URL:https://www.parafia-jerka.pl/ogloszenie/stanislawa-pawlaka-od-chrzesniaczki-miroslawy/
ORGANIZER;CN="Ks. Dawid Kawa%C5%82a":MAILTO:biuro@parafia-jerka.pl
END:VEVENT
BEGIN:VEVENT
DTSTART;TZID=Europe/Paris:20251019T080000
DTEND;TZID=Europe/Paris:20251019T080000
DTSTAMP:20260422T020116
CREATED:20251012T091545Z
LAST-MODIFIED:20251012T091546Z
UID:12095-1760860800-1760860800@www.parafia-jerka.pl
SUMMARY:+Alicję Przybylską- w 6r. śm. i zm. z rodz.
DESCRIPTION:Msza Św.
URL:https://www.parafia-jerka.pl/ogloszenie/alicje-przybylska-w-6r-sm-i-zm-z-rodz/
ORGANIZER;CN="Ks. Dawid Kawa%C5%82a":MAILTO:biuro@parafia-jerka.pl
END:VEVENT
BEGIN:VEVENT
DTSTART;TZID=Europe/Paris:20251019T100000
DTEND;TZID=Europe/Paris:20251019T100000
DTSTAMP:20260422T020116
CREATED:20251012T091545Z
LAST-MODIFIED:20251012T091546Z
UID:12096-1760868000-1760868000@www.parafia-jerka.pl
SUMMARY:+Marię\, Sylwestra Suchorów\, Katarzynę Smolich\, Annę Ptaszyńską\, zm. z rodz. Suchorów\, Kanieckich i Szurkowskich
DESCRIPTION:Msza Św.
URL:https://www.parafia-jerka.pl/ogloszenie/marie-sylwestra-suchorow-katarzyne-smolich-anne-ptaszynska-zm-z-rodz-suchorow-kanieckich-i-szurkowskich-2/
ORGANIZER;CN="Ks. Dawid Kawa%C5%82a":MAILTO:biuro@parafia-jerka.pl
END:VEVENT
BEGIN:VEVENT
DTSTART;TZID=Europe/Paris:20251019T113000
DTEND;TZID=Europe/Paris:20251019T113000
DTSTAMP:20260422T020116
CREATED:20251012T091545Z
LAST-MODIFIED:20251012T091546Z
UID:12097-1760873400-1760873400@www.parafia-jerka.pl
SUMMARY:+Feliksa Borowskiego- w  3r. śm.\, Zofię Borowską
DESCRIPTION:Msza Św.
URL:https://www.parafia-jerka.pl/ogloszenie/feliksa-borowskiego-w-3r-sm-zofie-borowska/
ORGANIZER;CN="Ks. Dawid Kawa%C5%82a":MAILTO:biuro@parafia-jerka.pl
END:VEVENT
BEGIN:VEVENT
DTSTART;TZID=Europe/Paris:20251020T180000
DTEND;TZID=Europe/Paris:20251020T180000
DTSTAMP:20260422T020116
CREATED:20251019T095539Z
LAST-MODIFIED:20251019T095539Z
UID:12123-1760983200-1760983200@www.parafia-jerka.pl
SUMMARY:+Bogumiła Przydrożnego- od rodz. Losy
DESCRIPTION:Msza Św.
URL:https://www.parafia-jerka.pl/ogloszenie/bogumila-przydroznego-od-rodz-losy/
ORGANIZER;CN="Ks. Dawid Kawa%C5%82a":MAILTO:biuro@parafia-jerka.pl
END:VEVENT
END:VCALENDAR