BEGIN:VCALENDAR
VERSION:2.0
PRODID:-//Parafia Św. Kazimierza w Jerce - ECPv6.13.1//NONSGML v1.0//EN
CALSCALE:GREGORIAN
METHOD:PUBLISH
X-WR-CALNAME:Parafia Św. Kazimierza w Jerce
X-ORIGINAL-URL:https://www.parafia-jerka.pl
X-WR-CALDESC:Wydarzenia dla Parafia Św. Kazimierza w Jerce
REFRESH-INTERVAL;VALUE=DURATION:PT1H
X-Robots-Tag:noindex
X-PUBLISHED-TTL:PT1H
BEGIN:VTIMEZONE
TZID:Europe/Paris
BEGIN:DAYLIGHT
TZOFFSETFROM:+0100
TZOFFSETTO:+0200
TZNAME:CEST
DTSTART:20260329T010000
END:DAYLIGHT
BEGIN:STANDARD
TZOFFSETFROM:+0200
TZOFFSETTO:+0100
TZNAME:CET
DTSTART:20261025T010000
END:STANDARD
END:VTIMEZONE
BEGIN:VEVENT
DTSTART;TZID=Europe/Paris:20260309T160000
DTEND;TZID=Europe/Paris:20260309T160000
DTSTAMP:20260421T193517
CREATED:20260312T082435Z
LAST-MODIFIED:20260312T082435Z
UID:12815-1773072000-1773072000@www.parafia-jerka.pl
SUMMARY:(Zbęchy) +Bogdana Gołembkę- od żony Haliny i syna Janusza
DESCRIPTION:Msza Św.
URL:https://www.parafia-jerka.pl/ogloszenie/zbechy-bogdana-golembke-od-zony-haliny-i-syna-janusza/
ORGANIZER;CN="Ks. Dawid Kawa%C5%82a":MAILTO:biuro@parafia-jerka.pl
END:VEVENT
BEGIN:VEVENT
DTSTART;TZID=Europe/Paris:20260308T113000
DTEND;TZID=Europe/Paris:20260308T113000
DTSTAMP:20260421T193517
CREATED:20260301T134543Z
LAST-MODIFIED:20260301T134543Z
UID:12798-1772969400-1772969400@www.parafia-jerka.pl
SUMMARY:+Iwonę Dańczak- od siostrzenicy Natalii z mężem i dziećmi
DESCRIPTION:Msza Św.
URL:https://www.parafia-jerka.pl/ogloszenie/iwone-danczak-od-siostrzenicy-natalii-z-mezem-i-dziecmi/
ORGANIZER;CN="Ks. Dawid Kawa%C5%82a":MAILTO:biuro@parafia-jerka.pl
END:VEVENT
BEGIN:VEVENT
DTSTART;TZID=Europe/Paris:20260308T100000
DTEND;TZID=Europe/Paris:20260308T100000
DTSTAMP:20260421T193517
CREATED:20260301T134415Z
LAST-MODIFIED:20260301T134416Z
UID:12791-1772964000-1772964000@www.parafia-jerka.pl
SUMMARY:+Teresę Jurgę- od chrześniaczki Haliny z rodz.
DESCRIPTION:Msza Św.
URL:https://www.parafia-jerka.pl/ogloszenie/terese-jurge-od-chrzesniaczki-haliny-z-rodz/
ORGANIZER;CN="Ks. Dawid Kawa%C5%82a":MAILTO:biuro@parafia-jerka.pl
END:VEVENT
BEGIN:VEVENT
DTSTART;TZID=Europe/Paris:20260308T080000
DTEND;TZID=Europe/Paris:20260308T080000
DTSTAMP:20260421T193517
CREATED:20260301T134415Z
LAST-MODIFIED:20260301T134416Z
UID:12790-1772956800-1772956800@www.parafia-jerka.pl
SUMMARY:-Z okazji 18 ur. Zofii- z podz. za dar życia\, otrz. łaski\, z pr. o Boże\, błog.\, dary Ducha Świętego i opiekę MB\, na dalsze lata życia
DESCRIPTION:Msza Św.
URL:https://www.parafia-jerka.pl/ogloszenie/z-okazji-18-ur-zofii-z-podz-za-dar-zycia-otrz-laski-z-pr-o-boze-blog-dary-ducha-swietego-i-opieke-mb-na-dalsze-lata-zycia/
ORGANIZER;CN="Ks. Dawid Kawa%C5%82a":MAILTO:biuro@parafia-jerka.pl
END:VEVENT
BEGIN:VEVENT
DTSTART;TZID=Europe/Paris:20260307T180000
DTEND;TZID=Europe/Paris:20260307T180000
DTSTAMP:20260421T193517
CREATED:20260301T134415Z
LAST-MODIFIED:20260301T134416Z
UID:12789-1772906400-1772906400@www.parafia-jerka.pl
SUMMARY:+Franciszkę\, Stanisława Śliwińskich\, Teresę\, Jadwigę\, Stanisława\, Andrzejewskich
DESCRIPTION:Msza Św.
URL:https://www.parafia-jerka.pl/ogloszenie/franciszke-stanislawa-sliwinskich-terese-jadwige-stanislawa-andrzejewskich/
ORGANIZER;CN="Ks. Dawid Kawa%C5%82a":MAILTO:biuro@parafia-jerka.pl
END:VEVENT
BEGIN:VEVENT
DTSTART;TZID=Europe/Paris:20260307T160000
DTEND;TZID=Europe/Paris:20260307T160000
DTSTAMP:20260421T193517
CREATED:20260301T134414Z
LAST-MODIFIED:20260301T134416Z
UID:12788-1772899200-1772899200@www.parafia-jerka.pl
SUMMARY:-Chrzest (Karolina Bródka)
DESCRIPTION:Msza Św.
URL:https://www.parafia-jerka.pl/ogloszenie/chrzest-karolina-brodka/
ORGANIZER;CN="Ks. Dawid Kawa%C5%82a":MAILTO:biuro@parafia-jerka.pl
END:VEVENT
BEGIN:VEVENT
DTSTART;TZID=Europe/Paris:20260307T090000
DTEND;TZID=Europe/Paris:20260307T090000
DTSTAMP:20260421T193517
CREATED:20260301T134414Z
LAST-MODIFIED:20260301T134416Z
UID:12787-1772874000-1772874000@www.parafia-jerka.pl
SUMMARY:-W int. I i II Róży Mężczyzn Żywego Różańca
DESCRIPTION:Msza Św.
URL:https://www.parafia-jerka.pl/ogloszenie/w-int-i-i-ii-rozy-mezczyzn-zywego-rozanca/
ORGANIZER;CN="Ks. Dawid Kawa%C5%82a":MAILTO:biuro@parafia-jerka.pl
END:VEVENT
BEGIN:VEVENT
DTSTART;TZID=Europe/Paris:20260306T180000
DTEND;TZID=Europe/Paris:20260306T180000
DTSTAMP:20260421T193517
CREATED:20260301T134412Z
LAST-MODIFIED:20260301T134412Z
UID:12786-1772820000-1772820000@www.parafia-jerka.pl
SUMMARY:+Marię Józefowicz- od brata Andrzeja z żoną Renatą
DESCRIPTION:Msza Św.
URL:https://www.parafia-jerka.pl/ogloszenie/marie-jozefowicz-od-brata-andrzeja-z-zona-renata/
ORGANIZER;CN="Ks. Dawid Kawa%C5%82a":MAILTO:biuro@parafia-jerka.pl
END:VEVENT
BEGIN:VEVENT
DTSTART;TZID=Europe/Paris:20260305T180000
DTEND;TZID=Europe/Paris:20260305T180000
DTSTAMP:20260421T193517
CREATED:20260301T134412Z
LAST-MODIFIED:20260301T134412Z
UID:12785-1772733600-1772733600@www.parafia-jerka.pl
SUMMARY:+ Romana Ostrowskiego- od rodz. Bartkowiaków z Jerki i kuzynki\, Marii Miler
DESCRIPTION:Msza Św.
URL:https://www.parafia-jerka.pl/ogloszenie/romana-ostrowskiego-od-rodz-bartkowiakow-z-jerki-i-kuzynki-marii-miler/
ORGANIZER;CN="Ks. Dawid Kawa%C5%82a":MAILTO:biuro@parafia-jerka.pl
END:VEVENT
BEGIN:VEVENT
DTSTART;TZID=Europe/Paris:20260304T180000
DTEND;TZID=Europe/Paris:20260304T180000
DTSTAMP:20260421T193517
CREATED:20260301T134412Z
LAST-MODIFIED:20260301T134412Z
UID:12784-1772647200-1772647200@www.parafia-jerka.pl
SUMMARY:Msza zbiorowa: +Waldemara Chwastyniaka- od Tomasza i Karoliny z dziećmi\, +Wacława Banaszaka- w 32r. śm.\, Darka Banaszaka\, zm. z rodz.\, Banaszaków\, Przybylskich\, Kubisów i Marcinkowskich\, +Pelagię\, Jana Walasiaków i zm. z rodz.\, +Stanisławę Dodot- od rodz. Kolańczyków i Zachewiczów\, +Józefa Sołtysiaka\, Agnieszkę\, Stanisława Sołtysiaków\, +Romana Ostrowskiego- od Barbary z mężem\, Elżbiety z mężem i Marii\, +Jana Wojciaka- od szwagierki Bolesławy z rodz.\, +Wiesława Wojciaka- od kuzynki Janiny z mężem
DESCRIPTION:Msza Św.
URL:https://www.parafia-jerka.pl/ogloszenie/msza-zbiorowa-waldemara-chwastyniaka-od-tomasza-i-karoliny-z-dziecmi-waclawa-banaszaka-w-32r-sm-darka-banaszaka-zm-z-rodz-banaszakow-przybylskich-kubisow-i-marcinkowskich-pelagie-jan/
ORGANIZER;CN="Ks. Dawid Kawa%C5%82a":MAILTO:biuro@parafia-jerka.pl
END:VEVENT
BEGIN:VEVENT
DTSTART;TZID=Europe/Paris:20260303T180000
DTEND;TZID=Europe/Paris:20260303T180000
DTSTAMP:20260421T193517
CREATED:20260301T134412Z
LAST-MODIFIED:20260301T134412Z
UID:12783-1772560800-1772560800@www.parafia-jerka.pl
SUMMARY:+Krystynę Majchrzak- od syna Pawła z rodz.
DESCRIPTION:Msza Św.
URL:https://www.parafia-jerka.pl/ogloszenie/krystyne-majchrzak-od-syna-pawla-z-rodz/
ORGANIZER;CN="Ks. Dawid Kawa%C5%82a":MAILTO:biuro@parafia-jerka.pl
END:VEVENT
BEGIN:VEVENT
DTSTART;TZID=Europe/Paris:20260302T180000
DTEND;TZID=Europe/Paris:20260302T180000
DTSTAMP:20260421T193517
CREATED:20260301T134411Z
LAST-MODIFIED:20260301T134411Z
UID:12782-1772474400-1772474400@www.parafia-jerka.pl
SUMMARY:+Jerzego Kaniewskiego- od rodz. Stachowiaków
DESCRIPTION:Msza Św.
URL:https://www.parafia-jerka.pl/ogloszenie/jerzego-kaniewskiego-od-rodz-stachowiakow/
ORGANIZER;CN="Ks. Dawid Kawa%C5%82a":MAILTO:biuro@parafia-jerka.pl
END:VEVENT
BEGIN:VEVENT
DTSTART;TZID=Europe/Paris:20260301T113000
DTEND;TZID=Europe/Paris:20260301T113000
DTSTAMP:20260421T193517
CREATED:20260222T131304Z
LAST-MODIFIED:20260222T131306Z
UID:12753-1772364600-1772364600@www.parafia-jerka.pl
SUMMARY:+Zm. z rodz. Koników\, Ratajów\, Szynków i Bąków
DESCRIPTION:Msza Św.
URL:https://www.parafia-jerka.pl/ogloszenie/zm-z-rodz-konikow-ratajow-szynkow-i-bakow-2/
ORGANIZER;CN="Ks. Dawid Kawa%C5%82a":MAILTO:biuro@parafia-jerka.pl
END:VEVENT
BEGIN:VEVENT
DTSTART;TZID=Europe/Paris:20260301T100000
DTEND;TZID=Europe/Paris:20260301T100000
DTSTAMP:20260421T193517
CREATED:20260222T131304Z
LAST-MODIFIED:20260222T131306Z
UID:12752-1772359200-1772359200@www.parafia-jerka.pl
SUMMARY:+Teresę Skrzypczak- w 6r. śm.
DESCRIPTION:Msza Św.
URL:https://www.parafia-jerka.pl/ogloszenie/terese-skrzypczak-w-6r-sm/
ORGANIZER;CN="Ks. Dawid Kawa%C5%82a":MAILTO:biuro@parafia-jerka.pl
END:VEVENT
BEGIN:VEVENT
DTSTART;TZID=Europe/Paris:20260301T080000
DTEND;TZID=Europe/Paris:20260301T080000
DTSTAMP:20260421T193517
CREATED:20260222T131304Z
LAST-MODIFIED:20260222T131306Z
UID:12751-1772352000-1772352000@www.parafia-jerka.pl
SUMMARY:+Genowefę Bartkowiak- w 2r. śm.
DESCRIPTION:Msza Św.
URL:https://www.parafia-jerka.pl/ogloszenie/genowefe-bartkowiak-w-2r-sm/
ORGANIZER;CN="Ks. Dawid Kawa%C5%82a":MAILTO:biuro@parafia-jerka.pl
END:VEVENT
BEGIN:VEVENT
DTSTART;TZID=Europe/Paris:20260228T180000
DTEND;TZID=Europe/Paris:20260228T180000
DTSTAMP:20260421T193517
CREATED:20260222T131302Z
LAST-MODIFIED:20260222T131302Z
UID:12750-1772301600-1772301600@www.parafia-jerka.pl
SUMMARY:+Jana\, Janinę\, Pawła Wojciechowskich i zm. z rodz.
DESCRIPTION:Msza Św.
URL:https://www.parafia-jerka.pl/ogloszenie/jana-janine-pawla-wojciechowskich-i-zm-z-rodz/
ORGANIZER;CN="Ks. Dawid Kawa%C5%82a":MAILTO:biuro@parafia-jerka.pl
END:VEVENT
BEGIN:VEVENT
DTSTART;TZID=Europe/Paris:20260227T180000
DTEND;TZID=Europe/Paris:20260227T180000
DTSTAMP:20260421T193517
CREATED:20260222T131302Z
LAST-MODIFIED:20260222T131302Z
UID:12749-1772215200-1772215200@www.parafia-jerka.pl
SUMMARY:-Z ok. 18. urodzin Pauliny
DESCRIPTION:Msza Św.
URL:https://www.parafia-jerka.pl/ogloszenie/z-ok-18-urodzin-pauliny/
ORGANIZER;CN="Ks. Dawid Kawa%C5%82a":MAILTO:biuro@parafia-jerka.pl
END:VEVENT
BEGIN:VEVENT
DTSTART;TZID=Europe/Paris:20260226T180000
DTEND;TZID=Europe/Paris:20260226T180000
DTSTAMP:20260421T193517
CREATED:20260222T131302Z
LAST-MODIFIED:20260222T131302Z
UID:12748-1772128800-1772128800@www.parafia-jerka.pl
SUMMARY:+Bronisławę Marszal- od rodz. Szczepaniaków
DESCRIPTION:Msza Św.
URL:https://www.parafia-jerka.pl/ogloszenie/bronislawe-marszal-od-rodz-szczepaniakow/
ORGANIZER;CN="Ks. Dawid Kawa%C5%82a":MAILTO:biuro@parafia-jerka.pl
END:VEVENT
BEGIN:VEVENT
DTSTART;TZID=Europe/Paris:20260225T180000
DTEND;TZID=Europe/Paris:20260225T180000
DTSTAMP:20260421T193517
CREATED:20260222T151559Z
LAST-MODIFIED:20260222T151559Z
UID:12767-1772042400-1772042400@www.parafia-jerka.pl
SUMMARY:Msza zbiorowa: -O zdrowie dla Haliny\, +Stanisławę Dodot- od rodz. Klupczyńskich z Nowego Dworu\, +Waldemara Chwastyniaka- od Barbary i Macieja Ratajczaków\, Justyny\, i Bogdana Marcinkowskich oraz Elżbiety i Pawła Spychalskich\, +Stefana Prałata- od rodz. Majorków\, +Annę\, Stanisława Dorszów\, Mariana\, Stanisławę\, Janusza Ratajczaków\, +Wandę Meissner- w 13r. śm. i jej rodziców
DESCRIPTION:Msza Św.
URL:https://www.parafia-jerka.pl/ogloszenie/msza-zbiorowa-o-zdrowie-dla-haliny-stanislawe-dodot-od-rodz-klupczynskich-z-nowego-dworu-waldemara-chwastyniaka-od-barbary-i-macieja-ratajczakow-justyny-i-bogdana-marcinkowskich-oraz-elzbie/
ORGANIZER;CN="Ks. Dawid Kawa%C5%82a":MAILTO:biuro@parafia-jerka.pl
END:VEVENT
BEGIN:VEVENT
DTSTART;TZID=Europe/Paris:20260224T180000
DTEND;TZID=Europe/Paris:20260224T180000
DTSTAMP:20260421T193517
CREATED:20260222T131302Z
LAST-MODIFIED:20260222T131302Z
UID:12747-1771956000-1771956000@www.parafia-jerka.pl
SUMMARY:-W int. Bogu wiadomej
DESCRIPTION:Msza Św.
URL:https://www.parafia-jerka.pl/ogloszenie/w-int-bogu-wiadomej-2/
ORGANIZER;CN="Ks. Dawid Kawa%C5%82a":MAILTO:biuro@parafia-jerka.pl
END:VEVENT
BEGIN:VEVENT
DTSTART;TZID=Europe/Paris:20260223T180000
DTEND;TZID=Europe/Paris:20260223T180000
DTSTAMP:20260421T193517
CREATED:20260222T131301Z
LAST-MODIFIED:20260222T131301Z
UID:12746-1771869600-1771869600@www.parafia-jerka.pl
SUMMARY:+Władysława Prałata- od rodz. Prałatów
DESCRIPTION:Msza Św.
URL:https://www.parafia-jerka.pl/ogloszenie/wladyslawa-pralata-od-rodz-pralatow/
ORGANIZER;CN="Ks. Dawid Kawa%C5%82a":MAILTO:biuro@parafia-jerka.pl
END:VEVENT
BEGIN:VEVENT
DTSTART;TZID=Europe/Paris:20260222T113000
DTEND;TZID=Europe/Paris:20260222T113000
DTSTAMP:20260421T193517
CREATED:20260218T090515Z
LAST-MODIFIED:20260218T090515Z
UID:12727-1771759800-1771759800@www.parafia-jerka.pl
SUMMARY:+Janinę Olejniczak-w 1r. śm.- od męża
DESCRIPTION:Msza Św.
URL:https://www.parafia-jerka.pl/ogloszenie/janine-olejniczak-w-1r-sm-od-meza/
ORGANIZER;CN="Ks. Dawid Kawa%C5%82a":MAILTO:biuro@parafia-jerka.pl
END:VEVENT
BEGIN:VEVENT
DTSTART;TZID=Europe/Paris:20260222T100000
DTEND;TZID=Europe/Paris:20260222T100000
DTSTAMP:20260421T193517
CREATED:20260218T090514Z
LAST-MODIFIED:20260218T090514Z
UID:12726-1771754400-1771754400@www.parafia-jerka.pl
SUMMARY:+Martę\, Jana Michałowskich\, zm. z rodz. Walkiewiczów\,\, Zbigniewa Bartoszewskiego
DESCRIPTION:Msza Św.
URL:https://www.parafia-jerka.pl/ogloszenie/marte-jana-michalowskich-zm-z-rodz-walkiewiczow-zbigniewa-bartoszewskiego/
ORGANIZER;CN="Ks. Dawid Kawa%C5%82a":MAILTO:biuro@parafia-jerka.pl
END:VEVENT
BEGIN:VEVENT
DTSTART;TZID=Europe/Paris:20260222T080000
DTEND;TZID=Europe/Paris:20260222T080000
DTSTAMP:20260421T193517
CREATED:20260218T090514Z
LAST-MODIFIED:20260218T090514Z
UID:12725-1771747200-1771747200@www.parafia-jerka.pl
SUMMARY:+Stanisławę\, Jana Dziudzielów\, Irenę Czapracką
DESCRIPTION:Msza Św.
URL:https://www.parafia-jerka.pl/ogloszenie/stanislawe-jana-dziudzielow-irene-czapracka-2/
ORGANIZER;CN="Ks. Dawid Kawa%C5%82a":MAILTO:biuro@parafia-jerka.pl
END:VEVENT
BEGIN:VEVENT
DTSTART;TZID=Europe/Paris:20260221T180000
DTEND;TZID=Europe/Paris:20260221T180000
DTSTAMP:20260421T193517
CREATED:20260218T090513Z
LAST-MODIFIED:20260218T090513Z
UID:12724-1771696800-1771696800@www.parafia-jerka.pl
SUMMARY:+Stanisława Budnego- w 19r. śm.\, zm. z rodz. Wójcików i Budnych
DESCRIPTION:Msza Św.
URL:https://www.parafia-jerka.pl/ogloszenie/stanislawa-budnego-w-19r-sm-zm-z-rodz-wojcikow-i-budnych/
ORGANIZER;CN="Ks. Dawid Kawa%C5%82a":MAILTO:biuro@parafia-jerka.pl
END:VEVENT
BEGIN:VEVENT
DTSTART;TZID=Europe/Paris:20260221T160000
DTEND;TZID=Europe/Paris:20260221T160000
DTSTAMP:20260421T193517
CREATED:20260218T090513Z
LAST-MODIFIED:20260218T090513Z
UID:12723-1771689600-1771689600@www.parafia-jerka.pl
SUMMARY:-Chrzest- Klara Rychel
DESCRIPTION:Msza Św.
URL:https://www.parafia-jerka.pl/ogloszenie/chrzest-klara-rychel/
ORGANIZER;CN="Ks. Dawid Kawa%C5%82a":MAILTO:biuro@parafia-jerka.pl
END:VEVENT
BEGIN:VEVENT
DTSTART;TZID=Europe/Paris:20260220T180000
DTEND;TZID=Europe/Paris:20260220T180000
DTSTAMP:20260421T193517
CREATED:20260218T090510Z
LAST-MODIFIED:20260218T090510Z
UID:12722-1771610400-1771610400@www.parafia-jerka.pl
SUMMARY:-Z okazji urodzin- z podziękowaniem Bogu i MB\, za dar życia\,\, otrzymane sakramenty święte\, z pr. o zdrowie i opiekę Bożą
DESCRIPTION:Msza Św.
URL:https://www.parafia-jerka.pl/ogloszenie/z-okazji-urodzin-z-podziekowaniem-bogu-i-mb-za-dar-zycia-otrzymane-sakramenty-swiete-z-pr-o-zdrowie-i-opieke-boza/
ORGANIZER;CN="Ks. Dawid Kawa%C5%82a":MAILTO:biuro@parafia-jerka.pl
END:VEVENT
BEGIN:VEVENT
DTSTART;TZID=Europe/Paris:20260218T180000
DTEND;TZID=Europe/Paris:20260218T180000
DTSTAMP:20260421T193517
CREATED:20260218T090510Z
LAST-MODIFIED:20260218T090510Z
UID:12721-1771437600-1771437600@www.parafia-jerka.pl
SUMMARY:Msza Zbiorowa:\, +Teresę Kaczor- od rodz. Maćkowskich\, Klupczyńskich i Kaczmarków\, +Stanisławę Dodot- od wnuków Adriana i Dawida\, +Donata Józefowskiego\, zm. z rodz. Józefowskich i Koniecznych\, +Zenona Kostrzewskiego\, Tadeusza Majchrzaka\, Danutę Rojek\, +Jadwigę Stachowiak- od rodz. Majorków\, +Ewę Bartkowiak- od rodz. Józefiaków i Meissnerów\, +Wiesława Wojciaka- od sąsiadów Adamskich i Beszterdów\, +Jana Wojciaka- od rodz. Jakubiaków
DESCRIPTION:Msza Św.
URL:https://www.parafia-jerka.pl/ogloszenie/msza-zbiorowa-terese-kaczor-od-rodz-mackowskich-klupczynskich-i-kaczmarkow-stanislawe-dodot-od-wnukow-adriana-i-dawida-donata-jozefowskiego-zm-z-rodz-jozefowskich-i-koniecznych-zenona/
ORGANIZER;CN="Ks. Dawid Kawa%C5%82a":MAILTO:biuro@parafia-jerka.pl
END:VEVENT
BEGIN:VEVENT
DTSTART;TZID=Europe/Paris:20260218T160000
DTEND;TZID=Europe/Paris:20260218T160000
DTSTAMP:20260421T193517
CREATED:20260218T090509Z
LAST-MODIFIED:20260218T090509Z
UID:12720-1771430400-1771430400@www.parafia-jerka.pl
SUMMARY:(Zbęchy) +Teresę Jurgę- od sąsiadów Golembków\, Szymańskich i Kasperskich
DESCRIPTION:Msza Św.
URL:https://www.parafia-jerka.pl/ogloszenie/zbechy-terese-jurge-od-sasiadow-golembkow-szymanskich-i-kasperskich/
ORGANIZER;CN="Ks. Dawid Kawa%C5%82a":MAILTO:biuro@parafia-jerka.pl
END:VEVENT
BEGIN:VEVENT
DTSTART;TZID=Europe/Paris:20260218T090000
DTEND;TZID=Europe/Paris:20260218T090000
DTSTAMP:20260421T193517
CREATED:20260218T090509Z
LAST-MODIFIED:20260218T090509Z
UID:12719-1771405200-1771405200@www.parafia-jerka.pl
SUMMARY:-Za Parafian
DESCRIPTION:Msza Św.
URL:https://www.parafia-jerka.pl/ogloszenie/za-parafian-48/
ORGANIZER;CN="Ks. Dawid Kawa%C5%82a":MAILTO:biuro@parafia-jerka.pl
END:VEVENT
END:VCALENDAR