BEGIN:VCALENDAR
VERSION:2.0
PRODID:-//Parafia Św. Kazimierza w Jerce - ECPv6.13.1//NONSGML v1.0//EN
CALSCALE:GREGORIAN
METHOD:PUBLISH
X-ORIGINAL-URL:https://www.parafia-jerka.pl
X-WR-CALDESC:Wydarzenia dla Parafia Św. Kazimierza w Jerce
REFRESH-INTERVAL;VALUE=DURATION:PT1H
X-Robots-Tag:noindex
X-PUBLISHED-TTL:PT1H
BEGIN:VTIMEZONE
TZID:Europe/Paris
BEGIN:DAYLIGHT
TZOFFSETFROM:+0100
TZOFFSETTO:+0200
TZNAME:CEST
DTSTART:20250330T010000
END:DAYLIGHT
BEGIN:STANDARD
TZOFFSETFROM:+0200
TZOFFSETTO:+0100
TZNAME:CET
DTSTART:20251026T010000
END:STANDARD
END:VTIMEZONE
BEGIN:VEVENT
DTSTART;TZID=Europe/Paris:20250701T180000
DTEND;TZID=Europe/Paris:20250701T180000
DTSTAMP:20260422T045318
CREATED:20250703T094443Z
LAST-MODIFIED:20250703T094443Z
UID:11580-1751392800-1751392800@www.parafia-jerka.pl
SUMMARY:+Piotra Jakubowskiego- z ok. imienin
DESCRIPTION:Msza Św.
URL:https://www.parafia-jerka.pl/ogloszenie/piotra-jakubowskiego-z-ok-imienin/
ORGANIZER;CN="Ks. Dawid Kawa%C5%82a":MAILTO:biuro@parafia-jerka.pl
END:VEVENT
BEGIN:VEVENT
DTSTART;TZID=Europe/Paris:20250702T180000
DTEND;TZID=Europe/Paris:20250702T180000
DTSTAMP:20260422T045318
CREATED:20250703T094443Z
LAST-MODIFIED:20250703T094650Z
UID:11581-1751479200-1751479200@www.parafia-jerka.pl
SUMMARY:Msza zbiorowa: +Franciszka Bączkowskiego- w 1r. śm.\, +Mariannę\, Antoniego Pawłowskich\, Stanisławę\, Ignacego\, Matyjaszczyków\, Wojciecha i zm. z rodz.\, +Danutę Domagałę- od sąsiadów Walczaków i Wańskich\, +Bogumiła Przydrożnego- od wnuczki Nikoli z rodz.\, +Mieczysławę Wojciak- od rodz. Kustoszów i Maciejewskich\, +Stanisława Perza- od kuzynek Anny\, Łucji i Haliny z mężem
DESCRIPTION:Msza Św.
URL:https://www.parafia-jerka.pl/ogloszenie/msza-zbiorowa-franciszka-baczkowskiego-w-1r-sm-marianne-antoniego-pawlowskich-stanislawe-ignacego-matyjaszczykow-wojciecha-i-zm-z-rodz-danute-domagale-od-sasiadow-walczakow-i-wanskich/
ORGANIZER;CN="Ks. Dawid Kawa%C5%82a":MAILTO:biuro@parafia-jerka.pl
END:VEVENT
BEGIN:VEVENT
DTSTART;TZID=Europe/Paris:20250703T180000
DTEND;TZID=Europe/Paris:20250703T180000
DTSTAMP:20260422T045318
CREATED:20250703T094444Z
LAST-MODIFIED:20250703T094607Z
UID:11582-1751565600-1751565600@www.parafia-jerka.pl
SUMMARY:+Stanisława Prałata- w r. śm.\, Joannę Prałat\, Romana Jędrzejczaka\, jego rodziców\, siostry\, szwagra i zm. z rodz.
DESCRIPTION:Msza Św.
URL:https://www.parafia-jerka.pl/ogloszenie/stanislawa-pralata-w-r-sm-joanne-pralat-romana-jedrzejczaka-jego-rodzicow-siostry-szwagra-i-zm-z-rodz/
ORGANIZER;CN="Ks. Dawid Kawa%C5%82a":MAILTO:biuro@parafia-jerka.pl
END:VEVENT
BEGIN:VEVENT
DTSTART;TZID=Europe/Paris:20250704T180000
DTEND;TZID=Europe/Paris:20250704T180000
DTSTAMP:20260422T045318
CREATED:20250703T094446Z
LAST-MODIFIED:20250703T094550Z
UID:11583-1751652000-1751652000@www.parafia-jerka.pl
SUMMARY:+Jadwigę Radzką- w 20r. śm.\, Mieczysława Radzkiego- w 30r. śm.
DESCRIPTION:Msza Św.
URL:https://www.parafia-jerka.pl/ogloszenie/jadwige-radzka-w-20r-sm-mieczyslawa-radzkiego-w-30r-sm/
ORGANIZER;CN="Ks. Dawid Kawa%C5%82a":MAILTO:biuro@parafia-jerka.pl
END:VEVENT
BEGIN:VEVENT
DTSTART;TZID=Europe/Paris:20250705T180000
DTEND;TZID=Europe/Paris:20250705T180000
DTSTAMP:20260422T045318
CREATED:20250703T094447Z
LAST-MODIFIED:20250703T094543Z
UID:11584-1751738400-1751738400@www.parafia-jerka.pl
SUMMARY:+Sebastiana\, Mariana Jaśkowiaków\, Balbinę Wójcik- od siostry i szwagra
DESCRIPTION:Msza Św.
URL:https://www.parafia-jerka.pl/ogloszenie/sebastiana-mariana-jaskowiakow-balbine-wojcik-od-siostry-i-szwagra/
ORGANIZER;CN="Ks. Dawid Kawa%C5%82a":MAILTO:biuro@parafia-jerka.pl
END:VEVENT
BEGIN:VEVENT
DTSTART;TZID=Europe/Paris:20250706T080000
DTEND;TZID=Europe/Paris:20250706T080000
DTSTAMP:20260422T045318
CREATED:20250703T094447Z
LAST-MODIFIED:20250703T094536Z
UID:11585-1751788800-1751788800@www.parafia-jerka.pl
SUMMARY:+Ksawerego- z podz. za jego życie\, z pr. o życie wieczne dla Niego oraz za Jego rodziców o ulgę w cierpieniu- od cioci Magdy z rodz.
DESCRIPTION:Msza Św.
URL:https://www.parafia-jerka.pl/ogloszenie/ksawerego-z-podz-za-jego-zycie-z-pr-o-zycie-wieczne-dla-niego-oraz-za-jego-rodzicow-o-ulge-w-cierpieniu-od-cioci-magdy-z-rodz/
ORGANIZER;CN="Ks. Dawid Kawa%C5%82a":MAILTO:biuro@parafia-jerka.pl
END:VEVENT
BEGIN:VEVENT
DTSTART;TZID=Europe/Paris:20250706T100000
DTEND;TZID=Europe/Paris:20250706T100000
DTSTAMP:20260422T045318
CREATED:20250703T094448Z
LAST-MODIFIED:20250703T094525Z
UID:11586-1751796000-1751796000@www.parafia-jerka.pl
SUMMARY:-Z ok. 55r. ślubu Wandy i Henryka- z podz. za otrz. łaski\, z pr. o błog. Boże na dalsze lata oraz za śp. Annę Kosowską
DESCRIPTION:Msza Św.
URL:https://www.parafia-jerka.pl/ogloszenie/z-ok-55r-slubu-wandy-i-henryka-z-podz-za-otrz-laski-z-pr-o-blog-boze-na-dalsze-lata-oraz-za-sp-anne-kosowska/
ORGANIZER;CN="Ks. Dawid Kawa%C5%82a":MAILTO:biuro@parafia-jerka.pl
END:VEVENT
BEGIN:VEVENT
DTSTART;TZID=Europe/Paris:20250706T113000
DTEND;TZID=Europe/Paris:20250706T113000
DTSTAMP:20260422T045318
CREATED:20250703T094448Z
LAST-MODIFIED:20250703T094514Z
UID:11587-1751801400-1751801400@www.parafia-jerka.pl
SUMMARY:-Z ok. 35 r. ślubu\, z podz. za otrz. łaski/ z pr. o dalsze błog. Boże
DESCRIPTION:Msza Św.
URL:https://www.parafia-jerka.pl/ogloszenie/z-ok-35-r-slubu-z-podz-za-otrz-laski-z-pr-o-dalsze-blog-boze/
ORGANIZER;CN="Ks. Dawid Kawa%C5%82a":MAILTO:biuro@parafia-jerka.pl
END:VEVENT
BEGIN:VEVENT
DTSTART;TZID=Europe/Paris:20250708T180000
DTEND;TZID=Europe/Paris:20250708T180000
DTSTAMP:20260422T045318
CREATED:20250706T095706Z
LAST-MODIFIED:20250706T095920Z
UID:11625-1751997600-1751997600@www.parafia-jerka.pl
SUMMARY:+Alicję Przybylską\, Anielę\, Józefa Liberskich\, Sebastiana Biegańskiego i zm. z rodz.
DESCRIPTION:Msza Św.
URL:https://www.parafia-jerka.pl/ogloszenie/alicje-przybylska-aniele-jozefa-liberskich-sebastiana-bieganskiego-i-zm-z-rodz/
ORGANIZER;CN="Ks. Dawid Kawa%C5%82a":MAILTO:biuro@parafia-jerka.pl
END:VEVENT
BEGIN:VEVENT
DTSTART;TZID=Europe/Paris:20250709T180000
DTEND;TZID=Europe/Paris:20250709T180000
DTSTAMP:20260422T045318
CREATED:20250706T095707Z
LAST-MODIFIED:20250706T095909Z
UID:11626-1752084000-1752084000@www.parafia-jerka.pl
SUMMARY:Msza zbiorowa: +Stanisława Ratajszczaka- od Danieli Dudziak\, rodziny Klem i Kubickich\, +Mieczysława Nowaka- od rodz. Jordeczków\, +Sławomira Dudę- od rodz. Golaków\, +Bolesławę Berus- od rodz. Szymczaków\, +Danutę Domagałę- od rodz. Góreckich\, +Karola Golembkę- od kuzyna Janusza
DESCRIPTION:Msza Św.
URL:https://www.parafia-jerka.pl/ogloszenie/msza-zbiorowa-stanislawa-ratajszczaka-od-danieli-dudziak-rodziny-klem-i-kubickich-mieczyslawa-nowaka-od-rodz-jordeczkow-slawomira-dude-od-rodz-golakow-boleslawe-berus-od-rodz-szymczako/
ORGANIZER;CN="Ks. Dawid Kawa%C5%82a":MAILTO:biuro@parafia-jerka.pl
END:VEVENT
BEGIN:VEVENT
DTSTART;TZID=Europe/Paris:20250710T180000
DTEND;TZID=Europe/Paris:20250710T180000
DTSTAMP:20260422T045318
CREATED:20250706T095707Z
LAST-MODIFIED:20250706T095707Z
UID:11627-1752170400-1752170400@www.parafia-jerka.pl
SUMMARY:-W pewnej intencji
DESCRIPTION:Msza Św.
URL:https://www.parafia-jerka.pl/ogloszenie/w-pewnej-intencji-2/
ORGANIZER;CN="Ks. Dawid Kawa%C5%82a":MAILTO:biuro@parafia-jerka.pl
END:VEVENT
BEGIN:VEVENT
DTSTART;TZID=Europe/Paris:20250711T180000
DTEND;TZID=Europe/Paris:20250711T180000
DTSTAMP:20260422T045318
CREATED:20250706T095707Z
LAST-MODIFIED:20250706T095707Z
UID:11628-1752256800-1752256800@www.parafia-jerka.pl
SUMMARY:+Ojca Józefa Kornaszewskiego- w 2r. śm.
DESCRIPTION:Msza Św.
URL:https://www.parafia-jerka.pl/ogloszenie/ojca-jozefa-kornaszewskiego-w-2r-sm/
ORGANIZER;CN="Ks. Dawid Kawa%C5%82a":MAILTO:biuro@parafia-jerka.pl
END:VEVENT
BEGIN:VEVENT
DTSTART;TZID=Europe/Paris:20250712T180000
DTEND;TZID=Europe/Paris:20250712T180000
DTSTAMP:20260422T045318
CREATED:20250706T095709Z
LAST-MODIFIED:20250706T095842Z
UID:11629-1752343200-1752343200@www.parafia-jerka.pl
SUMMARY:+Władysławę\, Ignacego\, Kazimierza Wojciechowskich i zm. z rodz.
DESCRIPTION:Msza Św.
URL:https://www.parafia-jerka.pl/ogloszenie/wladyslawe-ignacego-kazimierza-wojciechowskich-i-zm-z-rodz/
ORGANIZER;CN="Ks. Dawid Kawa%C5%82a":MAILTO:biuro@parafia-jerka.pl
END:VEVENT
BEGIN:VEVENT
DTSTART;TZID=Europe/Paris:20250713T080000
DTEND;TZID=Europe/Paris:20250713T080000
DTSTAMP:20260422T045318
CREATED:20250706T095709Z
LAST-MODIFIED:20250706T095741Z
UID:11630-1752393600-1752393600@www.parafia-jerka.pl
SUMMARY:+Stanisława Olszewskiego- od kierowców firmy "Juna- Trans”
DESCRIPTION:Msza Św.
URL:https://www.parafia-jerka.pl/ogloszenie/stanislawa-olszewskiego-od-kierowcow-firmy-juna-trans/
ORGANIZER;CN="Ks. Dawid Kawa%C5%82a":MAILTO:biuro@parafia-jerka.pl
END:VEVENT
BEGIN:VEVENT
DTSTART;TZID=Europe/Paris:20250713T100000
DTEND;TZID=Europe/Paris:20250713T100000
DTSTAMP:20260422T045318
CREATED:20250706T095710Z
LAST-MODIFIED:20250706T095710Z
UID:11631-1752400800-1752400800@www.parafia-jerka.pl
SUMMARY:+Bogumiłę Charłos- od chrzestnej z rodziną
DESCRIPTION:Msza Św.
URL:https://www.parafia-jerka.pl/ogloszenie/bogumile-charlos-od-chrzestnej-z-rodzina/
ORGANIZER;CN="Ks. Dawid Kawa%C5%82a":MAILTO:biuro@parafia-jerka.pl
END:VEVENT
BEGIN:VEVENT
DTSTART;TZID=Europe/Paris:20250713T113000
DTEND;TZID=Europe/Paris:20250713T113000
DTSTAMP:20260422T045318
CREATED:20250706T095711Z
LAST-MODIFIED:20250706T095726Z
UID:11632-1752406200-1752406200@www.parafia-jerka.pl
SUMMARY:-Z ok. 18ur. Marii- z podz. za otrz. łaski\, z pr. o dalsze błog. Boże i opiekę Matki  Bożej
DESCRIPTION:Msza Św.
URL:https://www.parafia-jerka.pl/ogloszenie/z-ok-18ur-marii-z-podz-za-otrz-laski-z-pr-o-dalsze-blog-boze-i-opieke-matki-bozej/
ORGANIZER;CN="Ks. Dawid Kawa%C5%82a":MAILTO:biuro@parafia-jerka.pl
END:VEVENT
BEGIN:VEVENT
DTSTART;TZID=Europe/Paris:20250714T180000
DTEND;TZID=Europe/Paris:20250714T180000
DTSTAMP:20260422T045318
CREATED:20250713T101345Z
LAST-MODIFIED:20250713T101345Z
UID:11654-1752516000-1752516000@www.parafia-jerka.pl
SUMMARY:-Za Parafian
DESCRIPTION:Msza Św.
URL:https://www.parafia-jerka.pl/ogloszenie/za-parafian-30/
ORGANIZER;CN="Ks. Dawid Kawa%C5%82a":MAILTO:biuro@parafia-jerka.pl
END:VEVENT
BEGIN:VEVENT
DTSTART;TZID=Europe/Paris:20250715T180000
DTEND;TZID=Europe/Paris:20250715T180000
DTSTAMP:20260422T045318
CREATED:20250713T101345Z
LAST-MODIFIED:20250713T101345Z
UID:11655-1752602400-1752602400@www.parafia-jerka.pl
SUMMARY:+Henryka Taczkowskiego- w dniu imienin oraz zm. z rodz. Taczkowskich i Kowalskich
DESCRIPTION:Msza Św.
URL:https://www.parafia-jerka.pl/ogloszenie/henryka-taczkowskiego-w-dniu-imienin-oraz-zm-z-rodz-taczkowskich-i-kowalskich/
ORGANIZER;CN="Ks. Dawid Kawa%C5%82a":MAILTO:biuro@parafia-jerka.pl
END:VEVENT
BEGIN:VEVENT
DTSTART;TZID=Europe/Paris:20250716T180000
DTEND;TZID=Europe/Paris:20250716T180000
DTSTAMP:20260422T045318
CREATED:20250713T101346Z
LAST-MODIFIED:20250713T101532Z
UID:11656-1752688800-1752688800@www.parafia-jerka.pl
SUMMARY:Msza zbiorowa: -Z ok. 18 ur. Natalii- z podz. Panu Bogu i Matce Najśw. za otrz.  łaski\, z pr. o dalszą opiekę i błogosławieństwo- od dziadka Stefana\, +Włodzimierza Wachowiaka- w 10r. śm.\, Czesława\, Teresę Wachowiaków i Janinę Kapturczak\, +Danutę Domagałę- od rodz. Majorków\, +Karola Golembkę- od Waldka z tatą i Krystyną\, +Jacka Adamczyka- od siostry Mieczysławy\, +Halinę Adamczyk- od rodz. Wędzińskich i Walenciaków
DESCRIPTION:Msza Św.
URL:https://www.parafia-jerka.pl/ogloszenie/msza-zbiorowa-z-ok-18-ur-natalii-z-podz-panu-bogu-i-matce-najsw-za-otrz-laski-z-pr-o-dalsza-opieke-i-blogoslawienstwo-od-dziadka-stefana-wlodzimierza-wachowiaka-w-10r-sm-czeslawa-te/
ORGANIZER;CN="Ks. Dawid Kawa%C5%82a":MAILTO:biuro@parafia-jerka.pl
END:VEVENT
BEGIN:VEVENT
DTSTART;TZID=Europe/Paris:20250717T180000
DTEND;TZID=Europe/Paris:20250717T180000
DTSTAMP:20260422T045318
CREATED:20250713T101346Z
LAST-MODIFIED:20250713T101447Z
UID:11657-1752775200-1752775200@www.parafia-jerka.pl
SUMMARY:NIE MA MSZY ŚW.
DESCRIPTION:Msza Św.
URL:https://www.parafia-jerka.pl/ogloszenie/nie-ma-mszy-sw-3/
ORGANIZER;CN="Ks. Dawid Kawa%C5%82a":MAILTO:biuro@parafia-jerka.pl
END:VEVENT
BEGIN:VEVENT
DTSTART;TZID=Europe/Paris:20250718T180000
DTEND;TZID=Europe/Paris:20250718T180000
DTSTAMP:20260422T045318
CREATED:20250713T101348Z
LAST-MODIFIED:20250713T101446Z
UID:11658-1752861600-1752861600@www.parafia-jerka.pl
SUMMARY:NIE MA MSZY ŚW.
DESCRIPTION:Msza Św.
URL:https://www.parafia-jerka.pl/ogloszenie/nie-ma-mszy-sw-4/
ORGANIZER;CN="Ks. Dawid Kawa%C5%82a":MAILTO:biuro@parafia-jerka.pl
END:VEVENT
BEGIN:VEVENT
DTSTART;TZID=Europe/Paris:20250719T180000
DTEND;TZID=Europe/Paris:20250719T180000
DTSTAMP:20260422T045318
CREATED:20250713T101349Z
LAST-MODIFIED:20250713T101350Z
UID:11659-1752948000-1752948000@www.parafia-jerka.pl
SUMMARY:+Stanisława Ratajszczaka- od żony
DESCRIPTION:Msza Św.
URL:https://www.parafia-jerka.pl/ogloszenie/stanislawa-ratajszczaka-od-zony/
ORGANIZER;CN="Ks. Dawid Kawa%C5%82a":MAILTO:biuro@parafia-jerka.pl
END:VEVENT
BEGIN:VEVENT
DTSTART;TZID=Europe/Paris:20250720T080000
DTEND;TZID=Europe/Paris:20250720T080000
DTSTAMP:20260422T045318
CREATED:20250713T101349Z
LAST-MODIFIED:20250713T101350Z
UID:11660-1752998400-1752998400@www.parafia-jerka.pl
SUMMARY:+Mieczysława Nowaka- od córki Haliny z rodz.
DESCRIPTION:Msza Św.
URL:https://www.parafia-jerka.pl/ogloszenie/mieczyslawa-nowaka-od-corki-haliny-z-rodz/
ORGANIZER;CN="Ks. Dawid Kawa%C5%82a":MAILTO:biuro@parafia-jerka.pl
END:VEVENT
BEGIN:VEVENT
DTSTART;TZID=Europe/Paris:20250720T100000
DTEND;TZID=Europe/Paris:20250720T100000
DTSTAMP:20260422T045318
CREATED:20250713T101349Z
LAST-MODIFIED:20250713T101416Z
UID:11661-1753005600-1753005600@www.parafia-jerka.pl
SUMMARY:+Marię\, Sylwestra Suchorów i zm. z rodz.
DESCRIPTION:Msza Św.
URL:https://www.parafia-jerka.pl/ogloszenie/marie-sylwestra-suchorow-i-zm-z-rodz/
ORGANIZER;CN="Ks. Dawid Kawa%C5%82a":MAILTO:biuro@parafia-jerka.pl
END:VEVENT
BEGIN:VEVENT
DTSTART;TZID=Europe/Paris:20250720T113000
DTEND;TZID=Europe/Paris:20250720T113000
DTSTAMP:20260422T045318
CREATED:20250713T101349Z
LAST-MODIFIED:20250713T101410Z
UID:11662-1753011000-1753011000@www.parafia-jerka.pl
SUMMARY:+Mariannę\, Ignacego Bogackich i zm. z rodz. Leonardczyków i Bogackich\, -Po Mszy Chrzest- Barbara Małecka
DESCRIPTION:Msza Św.
URL:https://www.parafia-jerka.pl/ogloszenie/marianne-ignacego-bogackich-i-zm-z-rodz-leonardczykow-i-bogackich-po-mszy-chrzest-barbara-malecka/
ORGANIZER;CN="Ks. Dawid Kawa%C5%82a":MAILTO:biuro@parafia-jerka.pl
END:VEVENT
BEGIN:VEVENT
DTSTART;TZID=Europe/Paris:20250721T080000
DTEND;TZID=Europe/Paris:20250721T080000
DTSTAMP:20260422T045318
CREATED:20250725T135946Z
LAST-MODIFIED:20250725T140142Z
UID:11691-1753084800-1753084800@www.parafia-jerka.pl
SUMMARY:NIE MA MSZY ŚW.
DESCRIPTION:Msza Św.
URL:https://www.parafia-jerka.pl/ogloszenie/nie-ma-mszy-sw-5/
ORGANIZER;CN="Ks. Dawid Kawa%C5%82a":MAILTO:biuro@parafia-jerka.pl
END:VEVENT
BEGIN:VEVENT
DTSTART;TZID=Europe/Paris:20250722T080000
DTEND;TZID=Europe/Paris:20250722T080000
DTSTAMP:20260422T045318
CREATED:20250725T135947Z
LAST-MODIFIED:20250725T140137Z
UID:11692-1753171200-1753171200@www.parafia-jerka.pl
SUMMARY:NIE MA MSZY ŚW.
DESCRIPTION:Msza Św.
URL:https://www.parafia-jerka.pl/ogloszenie/nie-ma-mszy-sw-6/
ORGANIZER;CN="Ks. Dawid Kawa%C5%82a":MAILTO:biuro@parafia-jerka.pl
END:VEVENT
BEGIN:VEVENT
DTSTART;TZID=Europe/Paris:20250723T080000
DTEND;TZID=Europe/Paris:20250723T080000
DTSTAMP:20260422T045318
CREATED:20250725T135947Z
LAST-MODIFIED:20250725T140136Z
UID:11693-1753257600-1753257600@www.parafia-jerka.pl
SUMMARY:NIE MA MSZY ŚW.
DESCRIPTION:Msza Św.
URL:https://www.parafia-jerka.pl/ogloszenie/nie-ma-mszy-sw-7/
ORGANIZER;CN="Ks. Dawid Kawa%C5%82a":MAILTO:biuro@parafia-jerka.pl
END:VEVENT
BEGIN:VEVENT
DTSTART;TZID=Europe/Paris:20250724T080000
DTEND;TZID=Europe/Paris:20250724T080000
DTSTAMP:20260422T045318
CREATED:20250725T135948Z
LAST-MODIFIED:20250725T135948Z
UID:11694-1753344000-1753344000@www.parafia-jerka.pl
SUMMARY:NIE MA MSZY ŚW.
DESCRIPTION:Msza Św.
URL:https://www.parafia-jerka.pl/ogloszenie/nie-ma-mszy-sw-8/
ORGANIZER;CN="Ks. Dawid Kawa%C5%82a":MAILTO:biuro@parafia-jerka.pl
END:VEVENT
BEGIN:VEVENT
DTSTART;TZID=Europe/Paris:20250725T080000
DTEND;TZID=Europe/Paris:20250725T080000
DTSTAMP:20260422T045318
CREATED:20250725T135958Z
LAST-MODIFIED:20250725T135958Z
UID:11695-1753430400-1753430400@www.parafia-jerka.pl
SUMMARY:NIE MA MSZY ŚW.
DESCRIPTION:Msza Św.
URL:https://www.parafia-jerka.pl/ogloszenie/nie-ma-mszy-sw-9/
ORGANIZER;CN="Ks. Dawid Kawa%C5%82a":MAILTO:biuro@parafia-jerka.pl
END:VEVENT
END:VCALENDAR