BEGIN:VCALENDAR
VERSION:2.0
PRODID:-//Parafia Św. Kazimierza w Jerce - ECPv6.13.1//NONSGML v1.0//EN
CALSCALE:GREGORIAN
METHOD:PUBLISH
X-ORIGINAL-URL:https://www.parafia-jerka.pl
X-WR-CALDESC:Wydarzenia dla Parafia Św. Kazimierza w Jerce
REFRESH-INTERVAL;VALUE=DURATION:PT1H
X-Robots-Tag:noindex
X-PUBLISHED-TTL:PT1H
BEGIN:VTIMEZONE
TZID:Europe/Paris
BEGIN:DAYLIGHT
TZOFFSETFROM:+0100
TZOFFSETTO:+0200
TZNAME:CEST
DTSTART:20260329T010000
END:DAYLIGHT
BEGIN:STANDARD
TZOFFSETFROM:+0200
TZOFFSETTO:+0100
TZNAME:CET
DTSTART:20261025T010000
END:STANDARD
END:VTIMEZONE
BEGIN:VEVENT
DTSTART;TZID=Europe/Paris:20260201T080000
DTEND;TZID=Europe/Paris:20260201T080000
DTSTAMP:20260421T180054
CREATED:20260125T111753Z
LAST-MODIFIED:20260125T111754Z
UID:12640-1769932800-1769932800@www.parafia-jerka.pl
SUMMARY:+Jerzego Podrzyckiego i zm. z rodz. Podrzyckich\, Szajewskich\,\, Sobańskich i Wąsickich
DESCRIPTION:Msza Św.
URL:https://www.parafia-jerka.pl/ogloszenie/jerzego-podrzyckiego-i-zm-z-rodz-podrzyckich-szajewskich-sobanskich-i-wasickich/
ORGANIZER;CN="Ks. Dawid Kawa%C5%82a":MAILTO:biuro@parafia-jerka.pl
END:VEVENT
BEGIN:VEVENT
DTSTART;TZID=Europe/Paris:20260201T100000
DTEND;TZID=Europe/Paris:20260201T100000
DTSTAMP:20260421T180054
CREATED:20260125T111753Z
LAST-MODIFIED:20260125T111754Z
UID:12641-1769940000-1769940000@www.parafia-jerka.pl
SUMMARY:+Gertrudę Iwanowską- w 3r. śm.\, Mariana Iwanowskiego\, Teresę\, Bródkę- w 1r. śm. i Henryka Bródkę
DESCRIPTION:Msza Św.
URL:https://www.parafia-jerka.pl/ogloszenie/gertrude-iwanowska-w-3r-sm-mariana-iwanowskiego-terese-brodke-w-1r-sm-i-henryka-brodke/
ORGANIZER;CN="Ks. Dawid Kawa%C5%82a":MAILTO:biuro@parafia-jerka.pl
END:VEVENT
BEGIN:VEVENT
DTSTART;TZID=Europe/Paris:20260201T113000
DTEND;TZID=Europe/Paris:20260201T113000
DTSTAMP:20260421T180054
CREATED:20260125T111754Z
LAST-MODIFIED:20260125T111755Z
UID:12642-1769945400-1769945400@www.parafia-jerka.pl
SUMMARY:+Eugenię\, Tadeusza Nowakowskich\, Helenę\, Jerzego Wędzińskich\, i zm. z rodz.\, chrzest: Ewelina Pudurek\, chrzest: Kaja Piwowarczyk
DESCRIPTION:Msza Św.
URL:https://www.parafia-jerka.pl/ogloszenie/eugenie-tadeusza-nowakowskich-helene-jerzego-wedzinskich-i-zm-z-rodz-chrzest-ewelina-pudurek-chrzest-kaja-piwowarczyk/
ORGANIZER;CN="Ks. Dawid Kawa%C5%82a":MAILTO:biuro@parafia-jerka.pl
END:VEVENT
BEGIN:VEVENT
DTSTART;TZID=Europe/Paris:20260202T160000
DTEND;TZID=Europe/Paris:20260202T160000
DTSTAMP:20260421T180054
CREATED:20260201T113054Z
LAST-MODIFIED:20260201T113054Z
UID:12663-1770048000-1770048000@www.parafia-jerka.pl
SUMMARY:(Zbęchy) -Z okazji 4r. utworzenia w parafii Apostolatu Modlitwy\, i Postu za Kapłanów
DESCRIPTION:Msza Św.
URL:https://www.parafia-jerka.pl/ogloszenie/zbechy-z-okazji-4r-utworzenia-w-parafii-apostolatu-modlitwy-i-postu-za-kaplanow/
ORGANIZER;CN="Ks. Dawid Kawa%C5%82a":MAILTO:biuro@parafia-jerka.pl
END:VEVENT
BEGIN:VEVENT
DTSTART;TZID=Europe/Paris:20260202T180000
DTEND;TZID=Europe/Paris:20260202T180000
DTSTAMP:20260421T180054
CREATED:20260201T113054Z
LAST-MODIFIED:20260201T113054Z
UID:12664-1770055200-1770055200@www.parafia-jerka.pl
SUMMARY:+Barbarę\, Kazimierza Chełmikowskich i zm. z rodz.
DESCRIPTION:Msza Św.
URL:https://www.parafia-jerka.pl/ogloszenie/barbare-kazimierza-chelmikowskich-i-zm-z-rodz/
ORGANIZER;CN="Ks. Dawid Kawa%C5%82a":MAILTO:biuro@parafia-jerka.pl
END:VEVENT
BEGIN:VEVENT
DTSTART;TZID=Europe/Paris:20260203T180000
DTEND;TZID=Europe/Paris:20260203T180000
DTSTAMP:20260421T180054
CREATED:20260201T113054Z
LAST-MODIFIED:20260201T113054Z
UID:12665-1770141600-1770141600@www.parafia-jerka.pl
SUMMARY:+Janinę Szymańską- od rodz. Kaźmierczaków
DESCRIPTION:Msza Św.
URL:https://www.parafia-jerka.pl/ogloszenie/janine-szymanska-od-rodz-kazmierczakow/
ORGANIZER;CN="Ks. Dawid Kawa%C5%82a":MAILTO:biuro@parafia-jerka.pl
END:VEVENT
BEGIN:VEVENT
DTSTART;TZID=Europe/Paris:20260204T180000
DTEND;TZID=Europe/Paris:20260204T180000
DTSTAMP:20260421T180054
CREATED:20260201T113054Z
LAST-MODIFIED:20260201T113054Z
UID:12666-1770228000-1770228000@www.parafia-jerka.pl
SUMMARY:Msza Zbiorowa:\, +Waldemara Chwastyniaka- od Moniki i Mateusza\, +Leonarda Ptaszyńskiego- w r. śm.\, +Władysławę\, Ignacego\, Kazimierza Wojciechowskich\, Mariannę\,\, Feliksa Nowaczyków\, +Henryka Sobkowiaka- od rodzin Tomczaków\, Woźnych i Koniecznych\, +Jerzego Kaniewskiego- od chrześniaka Krzysztofa z rodz.\, +Jerzego Marcinkowskiego- w r. śm.\, +Karola Golembkę- od dzieci\, +Stanisławę Dodot- od rodz. Roszaków
DESCRIPTION:Msza Św.
URL:https://www.parafia-jerka.pl/ogloszenie/msza-zbiorowa-waldemara-chwastyniaka-od-moniki-i-mateusza-leonarda-ptaszynskiego-w-r-sm-wladyslawe-ignacego-kazimierza-wojciechowskich-marianne-feliksa-nowaczykow-henryka-sobkowiaka/
ORGANIZER;CN="Ks. Dawid Kawa%C5%82a":MAILTO:biuro@parafia-jerka.pl
END:VEVENT
BEGIN:VEVENT
DTSTART;TZID=Europe/Paris:20260205T180000
DTEND;TZID=Europe/Paris:20260205T180000
DTSTAMP:20260421T180054
CREATED:20260201T113054Z
LAST-MODIFIED:20260201T113054Z
UID:12667-1770314400-1770314400@www.parafia-jerka.pl
SUMMARY:-Za Parafian
DESCRIPTION:Msza Św.
URL:https://www.parafia-jerka.pl/ogloszenie/za-parafian-46/
ORGANIZER;CN="Ks. Dawid Kawa%C5%82a":MAILTO:biuro@parafia-jerka.pl
END:VEVENT
BEGIN:VEVENT
DTSTART;TZID=Europe/Paris:20260206T180000
DTEND;TZID=Europe/Paris:20260206T180000
DTSTAMP:20260421T180054
CREATED:20260201T113057Z
LAST-MODIFIED:20260201T113059Z
UID:12668-1770400800-1770400800@www.parafia-jerka.pl
SUMMARY:+Karola Golembkę- od szwagra Sławomira z teściową Teresą
DESCRIPTION:Msza Św.
URL:https://www.parafia-jerka.pl/ogloszenie/karola-golembke-od-szwagra-slawomira-z-tesciowa-teresa-2/
ORGANIZER;CN="Ks. Dawid Kawa%C5%82a":MAILTO:biuro@parafia-jerka.pl
END:VEVENT
BEGIN:VEVENT
DTSTART;TZID=Europe/Paris:20260207T090000
DTEND;TZID=Europe/Paris:20260207T090000
DTSTAMP:20260421T180054
CREATED:20260201T113057Z
LAST-MODIFIED:20260201T113059Z
UID:12669-1770454800-1770454800@www.parafia-jerka.pl
SUMMARY:-W int. I Róży Kobiet ŻR
DESCRIPTION:Msza Św.
URL:https://www.parafia-jerka.pl/ogloszenie/w-int-i-rozy-kobiet-zr-2/
ORGANIZER;CN="Ks. Dawid Kawa%C5%82a":MAILTO:biuro@parafia-jerka.pl
END:VEVENT
BEGIN:VEVENT
DTSTART;TZID=Europe/Paris:20260207T180000
DTEND;TZID=Europe/Paris:20260207T180000
DTSTAMP:20260421T180054
CREATED:20260201T113057Z
LAST-MODIFIED:20260201T113059Z
UID:12670-1770487200-1770487200@www.parafia-jerka.pl
SUMMARY:+Edmunda\, Agnieszkę\, Józefa Wójcików\, zm. z rodz.\, Nowakowskich i Jaśniaków
DESCRIPTION:Msza Św.
URL:https://www.parafia-jerka.pl/ogloszenie/edmunda-agnieszke-jozefa-wojcikow-zm-z-rodz-nowakowskich-i-jasniakow-2/
ORGANIZER;CN="Ks. Dawid Kawa%C5%82a":MAILTO:biuro@parafia-jerka.pl
END:VEVENT
BEGIN:VEVENT
DTSTART;TZID=Europe/Paris:20260208T080000
DTEND;TZID=Europe/Paris:20260208T080000
DTSTAMP:20260421T180054
CREATED:20260201T113057Z
LAST-MODIFIED:20260201T113059Z
UID:12671-1770537600-1770537600@www.parafia-jerka.pl
SUMMARY:-Z ok. 47r. ślubu\, z podz. za otrz. łaski\, z pr. o Boże błog. dla całej rodz.
DESCRIPTION:Msza Św.
URL:https://www.parafia-jerka.pl/ogloszenie/z-ok-47r-slubu-z-podz-za-otrz-laski-z-pr-o-boze-blog-dla-calej-rodz/
ORGANIZER;CN="Ks. Dawid Kawa%C5%82a":MAILTO:biuro@parafia-jerka.pl
END:VEVENT
BEGIN:VEVENT
DTSTART;TZID=Europe/Paris:20260208T100000
DTEND;TZID=Europe/Paris:20260208T100000
DTSTAMP:20260421T180054
CREATED:20260201T113058Z
LAST-MODIFIED:20260201T113059Z
UID:12672-1770544800-1770544800@www.parafia-jerka.pl
SUMMARY:-Za Parafian
DESCRIPTION:Msza Św.
URL:https://www.parafia-jerka.pl/ogloszenie/za-parafian-47/
ORGANIZER;CN="Ks. Dawid Kawa%C5%82a":MAILTO:biuro@parafia-jerka.pl
END:VEVENT
BEGIN:VEVENT
DTSTART;TZID=Europe/Paris:20260214T180000
DTEND;TZID=Europe/Paris:20260214T180000
DTSTAMP:20260421T180054
CREATED:20260208T105213Z
LAST-MODIFIED:20260208T105213Z
UID:12696-1771092000-1771092000@www.parafia-jerka.pl
SUMMARY:+Sylwestra Misiaka- w 4r. śm.
DESCRIPTION:Msza Św.
URL:https://www.parafia-jerka.pl/ogloszenie/sylwestra-misiaka-w-4r-sm/
ORGANIZER;CN="Ks. Dawid Kawa%C5%82a":MAILTO:biuro@parafia-jerka.pl
END:VEVENT
BEGIN:VEVENT
DTSTART;TZID=Europe/Paris:20260215T080000
DTEND;TZID=Europe/Paris:20260215T080000
DTSTAMP:20260421T180054
CREATED:20260208T105213Z
LAST-MODIFIED:20260208T105213Z
UID:12697-1771142400-1771142400@www.parafia-jerka.pl
SUMMARY:+Zofię Tomaszewską- w 5r. śm.\, Antoninę Dominiczak- w 13r. śm.\,\, Kazimierę Rosik- w 7r. śm.\, Ksawerego i zm. z rodz.
DESCRIPTION:Msza Św.
URL:https://www.parafia-jerka.pl/ogloszenie/zofie-tomaszewska-w-5r-sm-antonine-dominiczak-w-13r-sm-kazimiere-rosik-w-7r-sm-ksawerego-i-zm-z-rodz/
ORGANIZER;CN="Ks. Dawid Kawa%C5%82a":MAILTO:biuro@parafia-jerka.pl
END:VEVENT
BEGIN:VEVENT
DTSTART;TZID=Europe/Paris:20260215T100000
DTEND;TZID=Europe/Paris:20260215T100000
DTSTAMP:20260421T180054
CREATED:20260208T105213Z
LAST-MODIFIED:20260208T105213Z
UID:12698-1771149600-1771149600@www.parafia-jerka.pl
SUMMARY:+Teresę Jurgę- od Stanisławy Szymańskiej z rodz.
DESCRIPTION:Msza Św.
URL:https://www.parafia-jerka.pl/ogloszenie/terese-jurge-od-stanislawy-szymanskiej-z-rodz/
ORGANIZER;CN="Ks. Dawid Kawa%C5%82a":MAILTO:biuro@parafia-jerka.pl
END:VEVENT
BEGIN:VEVENT
DTSTART;TZID=Europe/Paris:20260215T113000
DTEND;TZID=Europe/Paris:20260215T113000
DTSTAMP:20260421T180054
CREATED:20260208T105213Z
LAST-MODIFIED:20260208T105213Z
UID:12699-1771155000-1771155000@www.parafia-jerka.pl
SUMMARY:+Antoninę\, Jana\, Ryszarda Szczepaniaków i zm. z rodz.
DESCRIPTION:Msza Św.
URL:https://www.parafia-jerka.pl/ogloszenie/antonine-jana-ryszarda-szczepaniakow-i-zm-z-rodz-3/
ORGANIZER;CN="Ks. Dawid Kawa%C5%82a":MAILTO:biuro@parafia-jerka.pl
END:VEVENT
BEGIN:VEVENT
DTSTART;TZID=Europe/Paris:20260217T180000
DTEND;TZID=Europe/Paris:20260217T180000
DTSTAMP:20260421T180054
CREATED:20260218T090504Z
LAST-MODIFIED:20260218T090504Z
UID:12718-1771351200-1771351200@www.parafia-jerka.pl
SUMMARY:-W int. Władysława- z ok. 80. urodzin\, z podz. za otrz. łaski\, z pr.\, o dalsze błog. Boże
DESCRIPTION:Msza Św.
URL:https://www.parafia-jerka.pl/ogloszenie/w-int-wladyslawa-z-ok-80-urodzin-z-podz-za-otrz-laski-z-pr-o-dalsze-blog-boze/
ORGANIZER;CN="Ks. Dawid Kawa%C5%82a":MAILTO:biuro@parafia-jerka.pl
END:VEVENT
BEGIN:VEVENT
DTSTART;TZID=Europe/Paris:20260218T090000
DTEND;TZID=Europe/Paris:20260218T090000
DTSTAMP:20260421T180054
CREATED:20260218T090509Z
LAST-MODIFIED:20260218T090509Z
UID:12719-1771405200-1771405200@www.parafia-jerka.pl
SUMMARY:-Za Parafian
DESCRIPTION:Msza Św.
URL:https://www.parafia-jerka.pl/ogloszenie/za-parafian-48/
ORGANIZER;CN="Ks. Dawid Kawa%C5%82a":MAILTO:biuro@parafia-jerka.pl
END:VEVENT
BEGIN:VEVENT
DTSTART;TZID=Europe/Paris:20260218T160000
DTEND;TZID=Europe/Paris:20260218T160000
DTSTAMP:20260421T180054
CREATED:20260218T090509Z
LAST-MODIFIED:20260218T090509Z
UID:12720-1771430400-1771430400@www.parafia-jerka.pl
SUMMARY:(Zbęchy) +Teresę Jurgę- od sąsiadów Golembków\, Szymańskich i Kasperskich
DESCRIPTION:Msza Św.
URL:https://www.parafia-jerka.pl/ogloszenie/zbechy-terese-jurge-od-sasiadow-golembkow-szymanskich-i-kasperskich/
ORGANIZER;CN="Ks. Dawid Kawa%C5%82a":MAILTO:biuro@parafia-jerka.pl
END:VEVENT
BEGIN:VEVENT
DTSTART;TZID=Europe/Paris:20260218T180000
DTEND;TZID=Europe/Paris:20260218T180000
DTSTAMP:20260421T180054
CREATED:20260218T090510Z
LAST-MODIFIED:20260218T090510Z
UID:12721-1771437600-1771437600@www.parafia-jerka.pl
SUMMARY:Msza Zbiorowa:\, +Teresę Kaczor- od rodz. Maćkowskich\, Klupczyńskich i Kaczmarków\, +Stanisławę Dodot- od wnuków Adriana i Dawida\, +Donata Józefowskiego\, zm. z rodz. Józefowskich i Koniecznych\, +Zenona Kostrzewskiego\, Tadeusza Majchrzaka\, Danutę Rojek\, +Jadwigę Stachowiak- od rodz. Majorków\, +Ewę Bartkowiak- od rodz. Józefiaków i Meissnerów\, +Wiesława Wojciaka- od sąsiadów Adamskich i Beszterdów\, +Jana Wojciaka- od rodz. Jakubiaków
DESCRIPTION:Msza Św.
URL:https://www.parafia-jerka.pl/ogloszenie/msza-zbiorowa-terese-kaczor-od-rodz-mackowskich-klupczynskich-i-kaczmarkow-stanislawe-dodot-od-wnukow-adriana-i-dawida-donata-jozefowskiego-zm-z-rodz-jozefowskich-i-koniecznych-zenona/
ORGANIZER;CN="Ks. Dawid Kawa%C5%82a":MAILTO:biuro@parafia-jerka.pl
END:VEVENT
BEGIN:VEVENT
DTSTART;TZID=Europe/Paris:20260220T180000
DTEND;TZID=Europe/Paris:20260220T180000
DTSTAMP:20260421T180054
CREATED:20260218T090510Z
LAST-MODIFIED:20260218T090510Z
UID:12722-1771610400-1771610400@www.parafia-jerka.pl
SUMMARY:-Z okazji urodzin- z podziękowaniem Bogu i MB\, za dar życia\,\, otrzymane sakramenty święte\, z pr. o zdrowie i opiekę Bożą
DESCRIPTION:Msza Św.
URL:https://www.parafia-jerka.pl/ogloszenie/z-okazji-urodzin-z-podziekowaniem-bogu-i-mb-za-dar-zycia-otrzymane-sakramenty-swiete-z-pr-o-zdrowie-i-opieke-boza/
ORGANIZER;CN="Ks. Dawid Kawa%C5%82a":MAILTO:biuro@parafia-jerka.pl
END:VEVENT
BEGIN:VEVENT
DTSTART;TZID=Europe/Paris:20260221T160000
DTEND;TZID=Europe/Paris:20260221T160000
DTSTAMP:20260421T180054
CREATED:20260218T090513Z
LAST-MODIFIED:20260218T090513Z
UID:12723-1771689600-1771689600@www.parafia-jerka.pl
SUMMARY:-Chrzest- Klara Rychel
DESCRIPTION:Msza Św.
URL:https://www.parafia-jerka.pl/ogloszenie/chrzest-klara-rychel/
ORGANIZER;CN="Ks. Dawid Kawa%C5%82a":MAILTO:biuro@parafia-jerka.pl
END:VEVENT
BEGIN:VEVENT
DTSTART;TZID=Europe/Paris:20260221T180000
DTEND;TZID=Europe/Paris:20260221T180000
DTSTAMP:20260421T180054
CREATED:20260218T090513Z
LAST-MODIFIED:20260218T090513Z
UID:12724-1771696800-1771696800@www.parafia-jerka.pl
SUMMARY:+Stanisława Budnego- w 19r. śm.\, zm. z rodz. Wójcików i Budnych
DESCRIPTION:Msza Św.
URL:https://www.parafia-jerka.pl/ogloszenie/stanislawa-budnego-w-19r-sm-zm-z-rodz-wojcikow-i-budnych/
ORGANIZER;CN="Ks. Dawid Kawa%C5%82a":MAILTO:biuro@parafia-jerka.pl
END:VEVENT
BEGIN:VEVENT
DTSTART;TZID=Europe/Paris:20260222T080000
DTEND;TZID=Europe/Paris:20260222T080000
DTSTAMP:20260421T180054
CREATED:20260218T090514Z
LAST-MODIFIED:20260218T090514Z
UID:12725-1771747200-1771747200@www.parafia-jerka.pl
SUMMARY:+Stanisławę\, Jana Dziudzielów\, Irenę Czapracką
DESCRIPTION:Msza Św.
URL:https://www.parafia-jerka.pl/ogloszenie/stanislawe-jana-dziudzielow-irene-czapracka-2/
ORGANIZER;CN="Ks. Dawid Kawa%C5%82a":MAILTO:biuro@parafia-jerka.pl
END:VEVENT
BEGIN:VEVENT
DTSTART;TZID=Europe/Paris:20260222T100000
DTEND;TZID=Europe/Paris:20260222T100000
DTSTAMP:20260421T180054
CREATED:20260218T090514Z
LAST-MODIFIED:20260218T090514Z
UID:12726-1771754400-1771754400@www.parafia-jerka.pl
SUMMARY:+Martę\, Jana Michałowskich\, zm. z rodz. Walkiewiczów\,\, Zbigniewa Bartoszewskiego
DESCRIPTION:Msza Św.
URL:https://www.parafia-jerka.pl/ogloszenie/marte-jana-michalowskich-zm-z-rodz-walkiewiczow-zbigniewa-bartoszewskiego/
ORGANIZER;CN="Ks. Dawid Kawa%C5%82a":MAILTO:biuro@parafia-jerka.pl
END:VEVENT
BEGIN:VEVENT
DTSTART;TZID=Europe/Paris:20260222T113000
DTEND;TZID=Europe/Paris:20260222T113000
DTSTAMP:20260421T180054
CREATED:20260218T090515Z
LAST-MODIFIED:20260218T090515Z
UID:12727-1771759800-1771759800@www.parafia-jerka.pl
SUMMARY:+Janinę Olejniczak-w 1r. śm.- od męża
DESCRIPTION:Msza Św.
URL:https://www.parafia-jerka.pl/ogloszenie/janine-olejniczak-w-1r-sm-od-meza/
ORGANIZER;CN="Ks. Dawid Kawa%C5%82a":MAILTO:biuro@parafia-jerka.pl
END:VEVENT
BEGIN:VEVENT
DTSTART;TZID=Europe/Paris:20260223T180000
DTEND;TZID=Europe/Paris:20260223T180000
DTSTAMP:20260421T180054
CREATED:20260222T131301Z
LAST-MODIFIED:20260222T131301Z
UID:12746-1771869600-1771869600@www.parafia-jerka.pl
SUMMARY:+Władysława Prałata- od rodz. Prałatów
DESCRIPTION:Msza Św.
URL:https://www.parafia-jerka.pl/ogloszenie/wladyslawa-pralata-od-rodz-pralatow/
ORGANIZER;CN="Ks. Dawid Kawa%C5%82a":MAILTO:biuro@parafia-jerka.pl
END:VEVENT
BEGIN:VEVENT
DTSTART;TZID=Europe/Paris:20260224T180000
DTEND;TZID=Europe/Paris:20260224T180000
DTSTAMP:20260421T180054
CREATED:20260222T131302Z
LAST-MODIFIED:20260222T131302Z
UID:12747-1771956000-1771956000@www.parafia-jerka.pl
SUMMARY:-W int. Bogu wiadomej
DESCRIPTION:Msza Św.
URL:https://www.parafia-jerka.pl/ogloszenie/w-int-bogu-wiadomej-2/
ORGANIZER;CN="Ks. Dawid Kawa%C5%82a":MAILTO:biuro@parafia-jerka.pl
END:VEVENT
BEGIN:VEVENT
DTSTART;TZID=Europe/Paris:20260225T180000
DTEND;TZID=Europe/Paris:20260225T180000
DTSTAMP:20260421T180054
CREATED:20260222T151559Z
LAST-MODIFIED:20260222T151559Z
UID:12767-1772042400-1772042400@www.parafia-jerka.pl
SUMMARY:Msza zbiorowa: -O zdrowie dla Haliny\, +Stanisławę Dodot- od rodz. Klupczyńskich z Nowego Dworu\, +Waldemara Chwastyniaka- od Barbary i Macieja Ratajczaków\, Justyny\, i Bogdana Marcinkowskich oraz Elżbiety i Pawła Spychalskich\, +Stefana Prałata- od rodz. Majorków\, +Annę\, Stanisława Dorszów\, Mariana\, Stanisławę\, Janusza Ratajczaków\, +Wandę Meissner- w 13r. śm. i jej rodziców
DESCRIPTION:Msza Św.
URL:https://www.parafia-jerka.pl/ogloszenie/msza-zbiorowa-o-zdrowie-dla-haliny-stanislawe-dodot-od-rodz-klupczynskich-z-nowego-dworu-waldemara-chwastyniaka-od-barbary-i-macieja-ratajczakow-justyny-i-bogdana-marcinkowskich-oraz-elzbie/
ORGANIZER;CN="Ks. Dawid Kawa%C5%82a":MAILTO:biuro@parafia-jerka.pl
END:VEVENT
END:VCALENDAR